BEGIN:VCALENDAR
VERSION:2.0
PRODID:-//wp-events-plugin.com//7.2.3.1//EN
TZID:America/New_York
X-WR-TIMEZONE:America/New_York
BEGIN:VEVENT
UID:319@findingconnecticut.com
DTSTART;TZID=America/New_York:20230325T090000
DTEND;TZID=America/New_York:20230325T170000
DTSTAMP:20230214T215707Z
URL:https://findingconnecticut.com/events/meditation-day-retreat/
SUMMARY:Meditation Day Retreat
DESCRIPTION:Meditation Day Retreat\nMarch 25\, 2023 • 9 am - 5 pm\n\nClic
 k here for more information \n\nSophia Meditation Center \n455 Boston Po
 st Road\, Suite 6B\nOld Saybrook\, CT 06475\nTo add an event please email 
 us\, we monitor for spam. We need a photo\, description and website for ea
 ch submission - We do not accept submissions that are within the next 3 da
 ys. submissions@findingconnecticut.com\n\n\n[caption id="attachment_16083"
  align="alignnone" width="300"] shop.findingconnecticut.com[/caption]\n\n&
 nbsp\;
ATTACH;FMTTYPE=image/jpeg:https://findingconnecticut.com/wp-content/upload
 s/2023/02/unnamed-5.jpg
CATEGORIES:Old Saybrook
LOCATION:Sophia Meditation Center\, 455 Boston Post Road\, Suite 6B\, Old S
 aybrook \, Connecticut \, 06475\, United States
X-APPLE-STRUCTURED-LOCATION;VALUE=URI;X-ADDRESS=455 Boston Post Road\, Suit
 e 6B\, Old Saybrook \, Connecticut \, 06475\, United States;X-APPLE-RADIUS
 =100;X-TITLE=Sophia Meditation Center:geo:0,0
END:VEVENT
BEGIN:VTIMEZONE
TZID:America/New_York
X-LIC-LOCATION:America/New_York
BEGIN:DAYLIGHT
DTSTART:20230312T030000
TZOFFSETFROM:-0500
TZOFFSETTO:-0400
TZNAME:EDT
END:DAYLIGHT
END:VTIMEZONE
END:VCALENDAR