BEGIN:VCALENDAR
VERSION:2.0
PRODID:-//wp-events-plugin.com//7.2.3.1//EN
TZID:America/New_York
X-WR-TIMEZONE:America/New_York
BEGIN:VEVENT
UID:13215@findingconnecticut.com
DTSTART;TZID=America/New_York:20251108T200000
DTEND;TZID=America/New_York:20251108T223000
DTSTAMP:20251019T133808Z
URL:https://findingconnecticut.com/events/matt-and-jeni-are-unprepared-sto
 rytelling-on-a-highwire-playhouse-on-park/
SUMMARY:Matt and Jeni Are Unprepared: Storytelling On a Highwire
DESCRIPTION:Matt and Jeni Are Unprepared: Storytelling On a Highwire\nNovem
 ber 8\, 2025\n\n Click here for more information \n\n  Playhouse on Par
 k\n244 Park Road\nWest Hartford\, CT 06119\n\nClick here for more informat
 ion about submitting events. \n\n[caption id="attachment_16083" align="al
 ignnone" width="300"] shop.findingconnecticut.com[/caption]\n\n 
ATTACH;FMTTYPE=image/jpeg:https://findingconnecticut.com/wp-content/upload
 s/2024/04/IMG_4500.jpeg
CATEGORIES:West Hartford
LOCATION:Playhouse on Park\, 244 Park Road\, West Hartford \, Connecticut \
 , 06119\, New England \, United States
X-APPLE-STRUCTURED-LOCATION;VALUE=URI;X-ADDRESS=244 Park Road\, West Hartfo
 rd \, Connecticut \, 06119\, New England \, United States;X-APPLE-RADIUS=1
 00;X-TITLE=Playhouse on Park:geo:0,0
END:VEVENT
BEGIN:VTIMEZONE
TZID:America/New_York
X-LIC-LOCATION:America/New_York
BEGIN:STANDARD
DTSTART:20251102T010000
TZOFFSETFROM:-0400
TZOFFSETTO:-0500
TZNAME:EST
END:STANDARD
END:VTIMEZONE
END:VCALENDAR