BEGIN:VCALENDAR
VERSION:2.0
PRODID:-//wp-events-plugin.com//7.2.3.1//EN
TZID:America/New_York
X-WR-TIMEZONE:America/New_York
BEGIN:VEVENT
UID:6170@findingconnecticut.com
DTSTART;TZID=America/New_York:20240815T200000
DTEND;TZID=America/New_York:20240815T223000
DTSTAMP:20240525T211026Z
URL:https://findingconnecticut.com/events/mat-kearney/
SUMMARY:Mat Kearney
DESCRIPTION:Mat Kearney\nAugust 15\, 2024\n Click here for more informatio
 n \n\n Ridgefield Playhouse \n80 East Ridge\nRidgefield\, CT 06877\n\nT
 o add an event please email us\, we monitor for spam. We need a photo\, de
 scription and website for each submission - We do not accept submissions t
 hat are within the next 3 days. submissions at findingconnecticut.com  \
 n\n[caption id="attachment_16083" align="alignnone" width="300"] shop.find
 ingconnecticut.com[/caption]
ATTACH;FMTTYPE=image/jpeg:https://findingconnecticut.com/wp-content/upload
 s/2024/05/MK_Press_4_-_Noah_Torralba.jpg
CATEGORIES:Ridgefield
LOCATION:Ridgefield Playhouse\, 80 E Ridge Rd\, Ridgefield\, Connecticut\, 
 06877\, New England\, United States
X-APPLE-STRUCTURED-LOCATION;VALUE=URI;X-ADDRESS=80 E Ridge Rd\, Ridgefield\
 , Connecticut\, 06877\, New England\, United States;X-APPLE-RADIUS=100;X-T
 ITLE=Ridgefield Playhouse:geo:0,0
END:VEVENT
BEGIN:VTIMEZONE
TZID:America/New_York
X-LIC-LOCATION:America/New_York
BEGIN:DAYLIGHT
DTSTART:20240310T030000
TZOFFSETFROM:-0500
TZOFFSETTO:-0400
TZNAME:EDT
END:DAYLIGHT
END:VTIMEZONE
END:VCALENDAR