BEGIN:VCALENDAR
VERSION:2.0
PRODID:-//wp-events-plugin.com//7.2.3.1//EN
TZID:America/New_York
X-WR-TIMEZONE:America/New_York
BEGIN:VEVENT
UID:54@findingconnecticut.com
DTSTART;TZID=America/New_York:20230207T183000
DTEND;TZID=America/New_York:20230207T203000
DTSTAMP:20230130T030537Z
URL:https://findingconnecticut.com/events/marquette-vs-uconn-huskies/
SUMMARY:Marquette vs UConn Huskies
DESCRIPTION:Marquette vs UConn Huskies\nFebruary 7\, 2023  •  6:30 PM\n
 \nXL Center\n1 Civic Center Plaza\nHartford\, CT 06103\nTo add an event pl
 ease email us\, we monitor for spam. We need a photo\, description and web
 site for each submission - We do not accept submissions that are within th
 e next 3 days. submissions@findingconnecticut.com\n
ATTACH;FMTTYPE=image/jpeg:https://findingconnecticut.com/wp-content/upload
 s/2022/04/Primary-Dog.jpg
CATEGORIES:Hartford
LOCATION:People'sBank Arena\, 1 Civic Center Plaza\, Hartford\,  CT \, 0610
 3\, New England\, \, United States
X-APPLE-STRUCTURED-LOCATION;VALUE=URI;X-ADDRESS=1 Civic Center Plaza\, Hart
 ford\,  CT \, 06103\, New England\, \, United States;X-APPLE-RADIUS=100;X-
 TITLE=People'sBank Arena:geo:0,0
END:VEVENT
BEGIN:VTIMEZONE
TZID:America/New_York
X-LIC-LOCATION:America/New_York
BEGIN:STANDARD
DTSTART:20221106T010000
TZOFFSETFROM:-0400
TZOFFSETTO:-0500
TZNAME:EST
END:STANDARD
END:VTIMEZONE
END:VCALENDAR