BEGIN:VCALENDAR
VERSION:2.0
PRODID:-//wp-events-plugin.com//7.2.3.1//EN
TZID:America/New_York
X-WR-TIMEZONE:America/New_York
BEGIN:VEVENT
UID:1290@findingconnecticut.com
DTSTART;TZID=America/New_York:20230607T200000
DTEND;TZID=America/New_York:20230607T223000
DTSTAMP:20230523T012458Z
URL:https://findingconnecticut.com/events/mark-hummel-featuring-anson-fund
 erburgh/
SUMMARY:Mark Hummel featuring Anson Funderburgh
DESCRIPTION:Mark Hummel featuring Anson Funderburgh\nJune 7\, 2023  • 8 
 PM\nClick here for more information \n Cafe Nine\n250 State St\nNew Have
 n\, CT 06510\n\nTo add an event please email us\, we monitor for spam. We 
 need a photo\, description and website for each submission - We do not acc
 ept submissions that are within the next 3 days. submissions at findingcon
 necticut.com  \n\n[caption id="attachment_16083" align="alignnone" width
 ="300"] shop.findingconnecticut.com[/caption]
ATTACH;FMTTYPE=image/jpeg:https://findingconnecticut.com/wp-content/upload
 s/2023/05/MARK-HUMMEL-AND-ANSON-FUNDERBURGH-.jpg
CATEGORIES:New Haven
LOCATION:Cafe Nine\, 250 State Street\, New Haven\, Connecticut \, 06510\, 
 United States
X-APPLE-STRUCTURED-LOCATION;VALUE=URI;X-ADDRESS=250 State Street\, New Have
 n\, Connecticut \, 06510\, United States;X-APPLE-RADIUS=100;X-TITLE=Cafe N
 ine:geo:0,0
END:VEVENT
BEGIN:VTIMEZONE
TZID:America/New_York
X-LIC-LOCATION:America/New_York
BEGIN:DAYLIGHT
DTSTART:20230312T030000
TZOFFSETFROM:-0500
TZOFFSETTO:-0400
TZNAME:EDT
END:DAYLIGHT
END:VTIMEZONE
END:VCALENDAR