BEGIN:VCALENDAR
VERSION:2.0
PRODID:-//wp-events-plugin.com//7.2.3.1//EN
TZID:America/New_York
X-WR-TIMEZONE:America/New_York
BEGIN:VEVENT
UID:410@findingconnecticut.com
DTSTART;TZID=America/New_York;VALUE=DATE:20230220
DTEND;TZID=America/New_York;VALUE=DATE:20230306
DTSTAMP:20230219T025313Z
URL:https://findingconnecticut.com/events/mansfield-windham-restaurant-wee
 k/
SUMMARY:Mansfield - Windham Restaurant Week
DESCRIPTION:Mansfield - Windham Restaurant Week\nFebruary 20\, 2023 - March
  5\, 2023\n•\nClick here for more information \n•\nTo add an event pl
 ease email us\, we monitor for spam. We need a photo\, description and web
 site for each submission - We do not accept submissions that are within th
 e next 3 days. submissions@findingconnecticut.com\n•\n\n\n[caption id="a
 ttachment_16083" align="alignnone" width="300"] shop.findingconnecticut.co
 m[/caption]\n\n&nbsp\;
ATTACH;FMTTYPE=image/jpeg:https://findingconnecticut.com/wp-content/upload
 s/2023/02/2023-T2T-Social-Graphic-scaled.jpg
CATEGORIES:Mansfield,Windham
END:VEVENT
BEGIN:VTIMEZONE
TZID:America/New_York
X-LIC-LOCATION:America/New_York
BEGIN:STANDARD
DTSTART:20221106T010000
TZOFFSETFROM:-0400
TZOFFSETTO:-0500
TZNAME:EST
END:STANDARD
END:VTIMEZONE
END:VCALENDAR