BEGIN:VCALENDAR
VERSION:2.0
PRODID:-//wp-events-plugin.com//7.2.3.1//EN
TZID:America/New_York
X-WR-TIMEZONE:America/New_York
BEGIN:VEVENT
UID:2509@findingconnecticut.com
DTSTART;TZID=America/New_York:20230928T200000
DTEND;TZID=America/New_York:20230928T230000
DTSTAMP:20230826T204937Z
URL:https://findingconnecticut.com/events/mandy-patinkin/
SUMMARY:Mandy Patinkin
DESCRIPTION:Mandy Patinkin\nSeptember 28\, 2023  •  8 PM\n For more in
 formation click here \n\n Westport Country Playhouse \n25 Powers Court\n
 Westport\, Connecticut 06880\n\nTo add an event please email us\, we monit
 or for spam. We need a photo\, description and website for each submission
  - We do not accept submissions that are within the next 3 days. submissio
 ns at findingconnecticut.com  \n\n[caption id="attachment_16083" align="
 alignnone" width="300"] shop.findingconnecticut.com[/caption]
ATTACH;FMTTYPE=image/jpeg:https://findingconnecticut.com/wp-content/upload
 s/2023/08/Mandy-Patinkin_byJoanMarcus.jpg
CATEGORIES:Westport
LOCATION:Westport Country Playhouse\, 25 Powers Court\, \, Westport\, \, Co
 nnecticut\, \, 06880\, New England \, United States
X-APPLE-STRUCTURED-LOCATION;VALUE=URI;X-ADDRESS=25 Powers Court\, \, Westpo
 rt\, \, Connecticut\, \, 06880\, New England \, United States;X-APPLE-RADI
 US=100;X-TITLE=Westport Country Playhouse:geo:0,0
END:VEVENT
BEGIN:VTIMEZONE
TZID:America/New_York
X-LIC-LOCATION:America/New_York
BEGIN:DAYLIGHT
DTSTART:20230312T030000
TZOFFSETFROM:-0500
TZOFFSETTO:-0400
TZNAME:EDT
END:DAYLIGHT
END:VTIMEZONE
END:VCALENDAR