BEGIN:VCALENDAR
VERSION:2.0
PRODID:-//wp-events-plugin.com//7.2.3.1//EN
TZID:America/New_York
X-WR-TIMEZONE:America/New_York
BEGIN:VEVENT
UID:11575@findingconnecticut.com
DTSTART;TZID=America/New_York:20251110T120000
DTEND;TZID=America/New_York:20251110T140000
DTSTAMP:20250627T183211Z
URL:https://findingconnecticut.com/events/maddis-fridge-the-bushnell-hartf
 ord-ct-november-10-2025-12-pm/
SUMMARY:Maddi’s Fridge
DESCRIPTION:Maddi’s Fridge\nNovember 10 2025  • 12 pm\n\n Click here 
 for more information \n\n The Bushnell\n166 Capitol Ave\nHartford\, CT 0
 6106\n\n Click here to return to Finding Connecticut's home page\nAs of M
 arch 2025\, all event listings require payment.\nTo submit your event\, pl
 ease send the event details along with a photo and/or logo to submissions 
 at findingconnecticut dot com. You can complete your payment here\nYour e
 vent will be published within 24 hours after both payment and all required
  information have been received.\nWe offer discounts for multiple event li
 stings.\nThank you for supporting Finding Connecticut—your participatio
 n helps us grow our website and brand.\n(We do not publish any content tha
 t has to do with areas outside of Connecticut. If you are looking to post 
 on our Hudson Valley or New York City pages\, then contact us via email.)\
 n\n\n[caption id="attachment_16083" align="alignnone" width="300"] shop.fi
 ndingconnecticut.com[/caption]\n\n&nbsp\;
ATTACH;FMTTYPE=image/jpeg:https://findingconnecticut.com/wp-content/upload
 s/2025/05/unnamed-57.png
CATEGORIES:Hartford
LOCATION:The Bushnell\, 166 Capitol Ave\, \, Hartford\,\, Connecticut\, \, 
 06106\, \, New England\, \, United States
X-APPLE-STRUCTURED-LOCATION;VALUE=URI;X-ADDRESS=166 Capitol Ave\, \, Hartfo
 rd\,\, Connecticut\, \, 06106\, \, New England\, \, United States;X-APPLE-
 RADIUS=100;X-TITLE=The Bushnell:geo:0,0
END:VEVENT
BEGIN:VTIMEZONE
TZID:America/New_York
X-LIC-LOCATION:America/New_York
BEGIN:STANDARD
DTSTART:20251102T010000
TZOFFSETFROM:-0400
TZOFFSETTO:-0500
TZNAME:EST
END:STANDARD
END:VTIMEZONE
END:VCALENDAR