BEGIN:VCALENDAR
VERSION:2.0
PRODID:-//wp-events-plugin.com//7.2.3.1//EN
TZID:America/New_York
X-WR-TIMEZONE:America/New_York
BEGIN:VEVENT
UID:11912@findingconnecticut.com
DTSTART;TZID=America/New_York:20250809T160000
DTEND;TZID=America/New_York:20250809T200000
DTSTAMP:20250525T155431Z
URL:https://findingconnecticut.com/events/mab-appreciation-cup-farmington-
 polo-club-farmington-ct-august-9-2025/
SUMMARY:MAB Appreciation Cup
DESCRIPTION:MAB Appreciation Cup\nAugust 9\, 2025 • 4 pm\nClick here to p
 urchase tickets\nClick here for more information\nClick here to learn more
  about Farmington Polo Club\n\n Farmington Polo Club \n162 Town Farm Rd\
 nFarmington\, CT 06032\nAs of March 2025\, all event listings require paym
 ent.\nTo submit your event\, please send the event details along with a ph
 oto and/or logo to submissions at findingconnecticut dot com. You can comp
 lete your payment here\nYour event will be published within 24 hours afte
 r both payment and all required information have been received.\nWe offer 
 discounts for multiple event listings.\nThank you for supporting Finding 
 Connecticut—your participation helps us grow our website and brand.\n&nb
 sp\;\n\n[caption id="attachment_16083" align="alignnone" width="300"] shop
 .findingconnecticut.com[/caption]
ATTACH;FMTTYPE=image/jpeg:https://findingconnecticut.com/wp-content/upload
 s/2024/06/20240601-fpc-opening-day-005-X5.jpg
CATEGORIES:Farmington
LOCATION:Farmington Polo Club\, 162 Town Farm Rd\, Farmington\, Connecticut
  \, 06032\, New England\, United States
X-APPLE-STRUCTURED-LOCATION;VALUE=URI;X-ADDRESS=162 Town Farm Rd\, Farmingt
 on\, Connecticut \, 06032\, New England\, United States;X-APPLE-RADIUS=100
 ;X-TITLE=Farmington Polo Club:geo:0,0
END:VEVENT
BEGIN:VTIMEZONE
TZID:America/New_York
X-LIC-LOCATION:America/New_York
BEGIN:DAYLIGHT
DTSTART:20250309T030000
TZOFFSETFROM:-0500
TZOFFSETTO:-0400
TZNAME:EDT
END:DAYLIGHT
END:VTIMEZONE
END:VCALENDAR