BEGIN:VCALENDAR
VERSION:2.0
PRODID:-//wp-events-plugin.com//7.2.3.1//EN
TZID:America/New_York
X-WR-TIMEZONE:America/New_York
BEGIN:VEVENT
UID:2201@findingconnecticut.com
DTSTART;TZID=America/New_York:20231115T190000
DTEND;TZID=America/New_York:20231115T223000
DTSTAMP:20231019T203841Z
URL:https://findingconnecticut.com/events/lord-of-the-dance-25th-anniversa
 ry/
SUMMARY:Lord of the Dance 25th Anniversary
DESCRIPTION:Lord of the Dance 25th Anniversary\nMarch 15\, 2023  • 7 PM\
 n\n Click here for more information \n\n Mohegan Sun \n1 Mohegan Sun B
 lvd.\nUncasville\, CT 06382\n\nTo add an event please email us\, we monito
 r for spam. We need a photo\, description and website for each submission 
 - We do not accept submissions that are within the next 3 days. submission
 s at findingconnecticut.com\n\n&nbsp\;\n\n[caption id="attachment_16083" a
 lign="alignnone" width="300"] shop.findingconnecticut.com[/caption]
ATTACH;FMTTYPE=image/jpeg:https://findingconnecticut.com/wp-content/upload
 s/2023/08/unnamed-10.jpg
CATEGORIES:Uncasville
LOCATION:Mohegan Sun\, 1 Mohegan Sun Blvd\, \, Uncasville\, \, Connecticut\
 , \, 06382\, New England \, United States
X-APPLE-STRUCTURED-LOCATION;VALUE=URI;X-ADDRESS=1 Mohegan Sun Blvd\, \, Unc
 asville\, \, Connecticut\, \, 06382\, New England \, United States;X-APPLE
 -RADIUS=100;X-TITLE=Mohegan Sun:geo:0,0
END:VEVENT
BEGIN:VTIMEZONE
TZID:America/New_York
X-LIC-LOCATION:America/New_York
BEGIN:STANDARD
DTSTART:20231105T010000
TZOFFSETFROM:-0400
TZOFFSETTO:-0500
TZNAME:EST
END:STANDARD
END:VTIMEZONE
END:VCALENDAR