BEGIN:VCALENDAR
VERSION:2.0
PRODID:-//wp-events-plugin.com//7.2.3.1//EN
TZID:America/New_York
X-WR-TIMEZONE:America/New_York
BEGIN:VEVENT
UID:66@findingconnecticut.com
DTSTART;TZID=America/New_York:20230506T200000
DTEND;TZID=America/New_York:20230506T223000
DTSTAMP:20230130T231512Z
URL:https://findingconnecticut.com/events/lizzo-the-special-2our/
SUMMARY:Lizzo - The Special 2our
DESCRIPTION:Lizzo - The Special 2our\nMay 6\, 2023 •  8PM\n\nFor more in
 formation click here \nXL Center\n1 Civic Center Plaza\nHartford\, CT 061
 03\nTo add an event please email us\, we monitor for spam. We need a photo
 \, description and website for each submission - We do not accept submissi
 ons that are within the next 3 days. submissions@findingconnecticut.com\n\
 n\n[caption id="attachment_16083" align="alignnone" width="300"] shop.find
 ingconnecticut.com[/caption]
ATTACH;FMTTYPE=image/jpeg:https://findingconnecticut.com/wp-content/upload
 s/2022/11/image001-7.jpg
CATEGORIES:Hartford
END:VEVENT
BEGIN:VTIMEZONE
TZID:America/New_York
X-LIC-LOCATION:America/New_York
BEGIN:DAYLIGHT
DTSTART:20230312T030000
TZOFFSETFROM:-0500
TZOFFSETTO:-0400
TZNAME:EDT
END:DAYLIGHT
END:VTIMEZONE
END:VCALENDAR