BEGIN:VCALENDAR
VERSION:2.0
PRODID:-//wp-events-plugin.com//7.2.3.1//EN
TZID:America/New_York
X-WR-TIMEZONE:America/New_York
BEGIN:VEVENT
UID:270@findingconnecticut.com
DTSTART;TZID=America/New_York:20230225T100000
DTEND;TZID=America/New_York:20230225T130000
DTSTAMP:20230213T230000Z
URL:https://findingconnecticut.com/events/litchfield-hills-farm-indoor-mar
 ket/
SUMMARY:Litchfield Hills Farm - Indoor Market
DESCRIPTION:Litchfield Hills Farm - Fresh Market \n10 AM - 1 PM\n\nLitchfi
 eld Center School\nRoute 202 and Woodruff Street\nLitchfield\, CT 06759\n\
 nThe Litchfield Farmers Market is one of the few year-round markets in Con
 necticut. The weekly Saturday market offers fresh seasonal produce\, plant
 s\, fruit\, berries\, flowers\, herbs\, sustainably sourced fish\; artisan
 al cheeses\, breads and baked goods\, local honey\, maple syrup and gifts 
 - raised\, grown or crafted by 15+ local vendors. \n\nThe market occasion
 ally hosts live music\, has a cookbook\, gardening book swap table and off
 ers a space to local non-profits from throughout the Litchfield area.\n\n[
 caption id="attachment_16083" align="alignnone" width="300"] shop.findingc
 onnecticut.com[/caption]
ATTACH;FMTTYPE=image/jpeg:https://findingconnecticut.com/wp-content/upload
 s/2023/02/1448240976.png
CATEGORIES:Litchfield
LOCATION:Litchfield Hills Farm Market - Indoors\, Route 202 and Woodruff St
 reet \, Litchfield\, Connecticut\, 06759\, United States
X-APPLE-STRUCTURED-LOCATION;VALUE=URI;X-ADDRESS=Route 202 and Woodruff Stre
 et \, Litchfield\, Connecticut\, 06759\, United States;X-APPLE-RADIUS=100;
 X-TITLE=Litchfield Hills Farm Market - Indoors:geo:0,0
END:VEVENT
BEGIN:VTIMEZONE
TZID:America/New_York
X-LIC-LOCATION:America/New_York
BEGIN:STANDARD
DTSTART:20221106T010000
TZOFFSETFROM:-0400
TZOFFSETTO:-0500
TZNAME:EST
END:STANDARD
END:VTIMEZONE
END:VCALENDAR