BEGIN:VCALENDAR
VERSION:2.0
PRODID:-//wp-events-plugin.com//7.2.3.1//EN
TZID:America/New_York
X-WR-TIMEZONE:America/New_York
BEGIN:VEVENT
UID:293@findingconnecticut.com
DTSTART;TZID=America/New_York:20230527T100000
DTEND;TZID=America/New_York:20230527T130000
DTSTAMP:20230214T014332Z
URL:https://findingconnecticut.com/events/litchfield-hills-farm-fresh-mark
 et-indoor-2/
SUMMARY:Litchfield Hills Farm - Fresh Market - Indoor
DESCRIPTION:Litchfield Hills Farm – Fresh Market \n10 AM – 1 PM\n\nLit
 chfield Center School\nRoute 202 and Woodruff Street\nLitchfield\, CT 0675
 9\n\nThe Litchfield Farmers Market is one of the few year-round markets in
  Connecticut. The weekly Saturday market offers fresh seasonal produce\, p
 lants\, fruit\, berries\, flowers\, herbs\, sustainably sourced fish\; art
 isanal cheeses\, breads and baked goods\, local honey\, maple syrup and gi
 fts – raised\, grown or crafted by 15+ local vendors.\n\nThe market occa
 sionally hosts live music\, has a cookbook\, gardening book swap table and
  offers a space to local non-profits from throughout the Litchfield area.\
 nshop.findingconnecticut.com
ATTACH;FMTTYPE=image/jpeg:https://findingconnecticut.com/wp-content/upload
 s/2023/02/1448240976.png
CATEGORIES:Litchfield
LOCATION:Litchfield Hills Farm Market - Indoors\, Route 202 and Woodruff St
 reet \, Litchfield\, Connecticut\, 06759\, United States
X-APPLE-STRUCTURED-LOCATION;VALUE=URI;X-ADDRESS=Route 202 and Woodruff Stre
 et \, Litchfield\, Connecticut\, 06759\, United States;X-APPLE-RADIUS=100;
 X-TITLE=Litchfield Hills Farm Market - Indoors:geo:0,0
END:VEVENT
BEGIN:VTIMEZONE
TZID:America/New_York
X-LIC-LOCATION:America/New_York
BEGIN:DAYLIGHT
DTSTART:20230312T030000
TZOFFSETFROM:-0500
TZOFFSETTO:-0400
TZNAME:EDT
END:DAYLIGHT
END:VTIMEZONE
END:VCALENDAR