BEGIN:VCALENDAR
VERSION:2.0
PRODID:-//wp-events-plugin.com//7.2.3.1//EN
TZID:America/New_York
X-WR-TIMEZONE:America/New_York
BEGIN:VEVENT
UID:1815@findingconnecticut.com
DTSTART;TZID=America/New_York:20230721T200000
DTEND;TZID=America/New_York:20230721T223000
DTSTAMP:20230703T173831Z
URL:https://findingconnecticut.com/events/lion-king/
SUMMARY:Lion King
DESCRIPTION:Lion King\nJuly 21\, 2023 • Arrive at 7\, Movie starts at 8\n
 Click here for more information \n\n Lyman Orchards\nPowder Hill Rd\nMid
 dlefield\, CT 06455\n\nTo add an event please email us\, we monitor for sp
 am. We need a photo\, description and website for each submission - We do 
 not accept submissions that are within the next 3 days. submissions at fin
 dingconnecticut.com  \n\n[caption id="attachment_16083" align="alignnone
 " width="300"] shop.findingconnecticut.com[/caption]
ATTACH;FMTTYPE=image/jpeg:https://findingconnecticut.com/wp-content/upload
 s/2023/07/The-Lion-King-Movie-Website-1.jpg
CATEGORIES:Middlefield
LOCATION:Lyman Orchards\, Powder Hill Rd\, Middlefield \, Connecticut\, 064
 55\, United States
X-APPLE-STRUCTURED-LOCATION;VALUE=URI;X-ADDRESS=Powder Hill Rd\, Middlefiel
 d \, Connecticut\, 06455\, United States;X-APPLE-RADIUS=100;X-TITLE=Lyman 
 Orchards:geo:0,0
END:VEVENT
BEGIN:VTIMEZONE
TZID:America/New_York
X-LIC-LOCATION:America/New_York
BEGIN:DAYLIGHT
DTSTART:20230312T030000
TZOFFSETFROM:-0500
TZOFFSETTO:-0400
TZNAME:EDT
END:DAYLIGHT
END:VTIMEZONE
END:VCALENDAR