BEGIN:VCALENDAR
VERSION:2.0
PRODID:-//wp-events-plugin.com//7.2.3.1//EN
TZID:America/New_York
X-WR-TIMEZONE:America/New_York
BEGIN:VEVENT
UID:1980@findingconnecticut.com
DTSTART;TZID=America/New_York:20230923T200000
DTEND;TZID=America/New_York:20230923T223000
DTSTAMP:20230717T202004Z
URL:https://findingconnecticut.com/events/lil-tjay/
SUMMARY:Lil Tjay
DESCRIPTION:Lil Tjay\nSeptember 23\, 2023\n Click here for more informatio
 n \n\n Total Mortgage Arena \n600 Main Street\nBridgeport\, CT 06604\n\
 nTo add an event please email us\, we monitor for spam. We need a photo\, 
 description and website for each submission - We do not accept submissions
  that are within the next 3 days. submissions at findingconnecticut.com 
  \n\n[caption id="attachment_16083" align="alignnone" width="300"] shop.f
 indingconnecticut.com[/caption]
ATTACH;FMTTYPE=image/jpeg:https://findingconnecticut.com/wp-content/upload
 s/2023/07/unnamed.png
CATEGORIES:Bridgeport
LOCATION:Total Mortgage Arena\, 600 Main Street\, Bridgeport\, Connecticut\
 , 06604\, New England\, United States
X-APPLE-STRUCTURED-LOCATION;VALUE=URI;X-ADDRESS=600 Main Street\, Bridgepor
 t\, Connecticut\, 06604\, New England\, United States;X-APPLE-RADIUS=100;X
 -TITLE=Total Mortgage Arena:geo:0,0
END:VEVENT
BEGIN:VTIMEZONE
TZID:America/New_York
X-LIC-LOCATION:America/New_York
BEGIN:DAYLIGHT
DTSTART:20230312T030000
TZOFFSETFROM:-0500
TZOFFSETTO:-0400
TZNAME:EDT
END:DAYLIGHT
END:VTIMEZONE
END:VCALENDAR