BEGIN:VCALENDAR
VERSION:2.0
PRODID:-//wp-events-plugin.com//7.2.3.1//EN
TZID:America/New_York
X-WR-TIMEZONE:America/New_York
BEGIN:VEVENT
UID:2494@findingconnecticut.com
DTSTART;TZID=America/New_York:20240505T200000
DTEND;TZID=America/New_York:20240505T220000
DTSTAMP:20230825T192836Z
URL:https://findingconnecticut.com/events/lewis-carols-alice-adventures-10
 /
SUMMARY:Lewis Carol's Alice Adventures
DESCRIPTION:Lewis Carol's Alice Adventures\nMay 5\, 2024 • 2 PM\n Click 
 here for more information \n\nTo add an event please email us\, we monito
 r for spam. We need a photo\, description and website for each submission 
 - We do not accept submissions that are within the next 3 days. submission
 s at findingconnecticut.com\n\n[caption id="attachment_16083" align="align
 none" width="300"] shop.findingconnecticut.com[/caption]\n\n 
ATTACH;FMTTYPE=image/jpeg:https://findingconnecticut.com/wp-content/upload
 s/2023/08/Screenshot-2023-08-25-at-1.40.03-PM.png
CATEGORIES:New Canaan
LOCATION:Town Players of New Canaan\, Waveny Park\, New Canaan\, Connecticu
 t \, 06840\, New England\, United States
X-APPLE-STRUCTURED-LOCATION;VALUE=URI;X-ADDRESS=Waveny Park\, New Canaan\, 
 Connecticut \, 06840\, New England\, United States;X-APPLE-RADIUS=100;X-TI
 TLE=Town Players of New Canaan:geo:0,0
END:VEVENT
BEGIN:VTIMEZONE
TZID:America/New_York
X-LIC-LOCATION:America/New_York
BEGIN:DAYLIGHT
DTSTART:20240310T030000
TZOFFSETFROM:-0500
TZOFFSETTO:-0400
TZNAME:EDT
END:DAYLIGHT
END:VTIMEZONE
END:VCALENDAR