BEGIN:VCALENDAR
VERSION:2.0
PRODID:-//wp-events-plugin.com//7.2.3.1//EN
TZID:America/New_York
X-WR-TIMEZONE:America/New_York
BEGIN:VEVENT
UID:2442@findingconnecticut.com
DTSTART;TZID=America/New_York:20240227T200000
DTEND;TZID=America/New_York:20240227T233000
DTSTAMP:20230824T220507Z
URL:https://findingconnecticut.com/events/les-ballets-trockadero-de-monte-
 carlo/
SUMMARY:Les Ballets Trockadero de Monte Carlo
DESCRIPTION:Les Ballets Trockadero de Monte Carlo\nFebruary 27\, 2024\n Cl
 ick here for more information \n Garde Arts Center\n325 State Street\nNe
 w London\, Connecticut 06320\n\nTo add an event please email us\, we monit
 or for spam. We need a photo\, description and website for each submission
  - We do not accept submissions that are within the next 3 days. submissio
 ns at findingconnecticut.com  \n\n[caption id="attachment_16083" align="
 alignnone" width="300"] shop.findingconnecticut.com[/caption]
ATTACH;FMTTYPE=image/jpeg:https://findingconnecticut.com/wp-content/upload
 s/2023/08/unnamed-12.jpg
CATEGORIES:New London
LOCATION:The Garde Arts Center\, 325 State Street \, New London\, Connectic
 ut \, 06320\, New England\, United States
X-APPLE-STRUCTURED-LOCATION;VALUE=URI;X-ADDRESS=325 State Street \, New Lon
 don\, Connecticut \, 06320\, New England\, United States;X-APPLE-RADIUS=10
 0;X-TITLE=The Garde Arts Center:geo:0,0
END:VEVENT
BEGIN:VTIMEZONE
TZID:America/New_York
X-LIC-LOCATION:America/New_York
BEGIN:STANDARD
DTSTART:20231105T010000
TZOFFSETFROM:-0400
TZOFFSETTO:-0500
TZNAME:EST
END:STANDARD
END:VTIMEZONE
END:VCALENDAR