BEGIN:VCALENDAR
VERSION:2.0
PRODID:-//wp-events-plugin.com//7.2.3.1//EN
TZID:America/New_York
X-WR-TIMEZONE:America/New_York
BEGIN:VEVENT
UID:2672@findingconnecticut.com
DTSTART;TZID=America/New_York:20231122T160000
DTEND;TZID=America/New_York:20231122T180000
DTSTAMP:20230827T043123Z
URL:https://findingconnecticut.com/events/learn-to-knit-storm-sweaters-5/
SUMMARY:Learn to knit Storm Sweaters
DESCRIPTION:Learn to knit Storm Sweaters\nNovember 22\, 2023 • 4 pm - 6 p
 m\n Click here for more information\n\n Westport Yarns\n582 Post Road Ea
 st\nWestport\, CT 06880\n\nTo add an event please email us\, we monitor fo
 r spam. We need a photo\, description and website for each submission - We
  do not accept submissions that are within the next 3 days. submissions at
  findingconnecticut.com  \n\n[caption id="attachment_16083" align="align
 none" width="300"] shop.findingconnecticut.com[/caption]\n\n&nbsp\;
ATTACH;FMTTYPE=image/jpeg:https://findingconnecticut.com/wp-content/upload
 s/2023/08/unnamed-13.jpg
CATEGORIES:Westport
LOCATION:Westport Yarns\,  582 Post Road East\, Westport \, Connecticut \,
  06880\, New England\, United States
X-APPLE-STRUCTURED-LOCATION;VALUE=URI;X-ADDRESS= 582 Post Road East\, West
 port \, Connecticut \, 06880\, New England\, United States;X-APPLE-RADIUS=
 100;X-TITLE=Westport Yarns:geo:0,0
END:VEVENT
BEGIN:VTIMEZONE
TZID:America/New_York
X-LIC-LOCATION:America/New_York
BEGIN:STANDARD
DTSTART:20231105T010000
TZOFFSETFROM:-0400
TZOFFSETTO:-0500
TZNAME:EST
END:STANDARD
END:VTIMEZONE
END:VCALENDAR