BEGIN:VCALENDAR
VERSION:2.0
PRODID:-//wp-events-plugin.com//7.2.3.1//EN
TZID:America/New_York
X-WR-TIMEZONE:America/New_York
BEGIN:VEVENT
UID:2674@findingconnecticut.com
DTSTART;TZID=America/New_York:20231010T150000
DTEND;TZID=America/New_York:20231010T170000
DTSTAMP:20230827T043556Z
URL:https://findingconnecticut.com/events/learn-to-knit-jenny-jacket-v-nec
 k-2/
SUMMARY:Learn to knit Jenny Jacket V Neck
DESCRIPTION:Learn to knit Jenny Jacket V Neck\nOctober 10\, 2023 • 3 pm -
  5 pm\n Click here for more information\n\n Westport Yarns\n582 Post Roa
 d East\nWestport\, CT 06880\n\nTo add an event please email us\, we monito
 r for spam. We need a photo\, description and website for each submission 
 - We do not accept submissions that are within the next 3 days. submission
 s at findingconnecticut.com  \n\n[caption id="attachment_16083" align="a
 lignnone" width="300"] shop.findingconnecticut.com[/caption]\n\n&nbsp\;
ATTACH;FMTTYPE=image/jpeg:https://findingconnecticut.com/wp-content/upload
 s/2023/08/unnamed-2-4.jpg
CATEGORIES:Westport
LOCATION:Westport Yarns\,  582 Post Road East\, Westport \, Connecticut \,
  06880\, New England\, United States
X-APPLE-STRUCTURED-LOCATION;VALUE=URI;X-ADDRESS= 582 Post Road East\, West
 port \, Connecticut \, 06880\, New England\, United States;X-APPLE-RADIUS=
 100;X-TITLE=Westport Yarns:geo:0,0
END:VEVENT
BEGIN:VTIMEZONE
TZID:America/New_York
X-LIC-LOCATION:America/New_York
BEGIN:DAYLIGHT
DTSTART:20230312T030000
TZOFFSETFROM:-0500
TZOFFSETTO:-0400
TZNAME:EDT
END:DAYLIGHT
END:VTIMEZONE
END:VCALENDAR