BEGIN:VCALENDAR
VERSION:2.0
PRODID:-//wp-events-plugin.com//7.2.3.1//EN
TZID:America/New_York
X-WR-TIMEZONE:America/New_York
BEGIN:VEVENT
UID:88@findingconnecticut.com
DTSTART;TZID=America/New_York:20230627T190000
DTEND;TZID=America/New_York:20230627T210000
DTSTAMP:20230130T225005Z
URL:https://findingconnecticut.com/events/las-vegas-aces-vs-connecticut-su
 n/
SUMMARY:New York Liberty vs Connecticut Sun
DESCRIPTION:New York Liberty vs Connecticut Sun\nJune 27\, 2023 • 7 PM\nM
 ohegan Sun \n1 Mohegan Sun Blvd.\nUncasville\, CT 06382\nTo add an event 
 please email us\, we monitor for spam. We need a photo\, description and w
 ebsite for each submission - We do not accept submissions that are within 
 the next 3 days. submissions@findingconnecticut.com\n\n\n[caption id="atta
 chment_16083" align="alignnone" width="300"] shop.findingconnecticut.com[/
 caption]
ATTACH;FMTTYPE=image/jpeg:https://findingconnecticut.com/wp-content/upload
 s/2022/04/Unknown.png
CATEGORIES:Uncasville
LOCATION:Mohegan Sun\, 1 Mohegan Sun Blvd\, \, Uncasville\, \, Connecticut\
 , \, 06382\, New England \, United States
X-APPLE-STRUCTURED-LOCATION;VALUE=URI;X-ADDRESS=1 Mohegan Sun Blvd\, \, Unc
 asville\, \, Connecticut\, \, 06382\, New England \, United States;X-APPLE
 -RADIUS=100;X-TITLE=Mohegan Sun:geo:0,0
END:VEVENT
BEGIN:VTIMEZONE
TZID:America/New_York
X-LIC-LOCATION:America/New_York
BEGIN:DAYLIGHT
DTSTART:20230312T030000
TZOFFSETFROM:-0500
TZOFFSETTO:-0400
TZNAME:EDT
END:DAYLIGHT
END:VTIMEZONE
END:VCALENDAR