BEGIN:VCALENDAR
VERSION:2.0
PRODID:-//wp-events-plugin.com//7.2.3.1//EN
TZID:America/New_York
X-WR-TIMEZONE:America/New_York
BEGIN:VEVENT
UID:4051@findingconnecticut.com
DTSTART;TZID=America/New_York:20240906T193000
DTEND;TZID=America/New_York:20240906T213000
DTSTAMP:20231224T154251Z
URL:https://findingconnecticut.com/events/las-vegas-aces-vs-connecticut-su
 n-5/
SUMMARY:Las Vegas Aces vs Connecticut Sun
DESCRIPTION:Las Vegas Aces vs Connecticut Sun\nSeptember 6\, 2024 • 7:30 
 PM\n Mohegan Sun \n1 Mohegan Sun Blvd.\nUncasville\, CT 06382\n Click h
 ere for more information about the Connecticut Sun 2024 Season\n Click he
 re to view the Connecticut Sun's full 2024 home schedule\n Click here to 
 learn more about the Connecticut Sun\n Click here to return to Finding Co
 nnecticut's home page\nTo add an event please email us\, we monitor for sp
 am. We need a photo\, description and website for each submission - We do 
 not accept submissions that are within the next 3 days. submissions@findin
 gconnecticut.com\n\n\n[caption id="attachment_16083" align="alignnone" wid
 th="300"] shop.findingconnecticut.com[/caption]
ATTACH;FMTTYPE=image/jpeg:https://findingconnecticut.com/wp-content/upload
 s/2022/04/Unknown.png
CATEGORIES:Uncasville
LOCATION:Mohegan Sun\, 1 Mohegan Sun Blvd\, \, Uncasville\, \, Connecticut\
 , \, 06382\, New England \, United States
X-APPLE-STRUCTURED-LOCATION;VALUE=URI;X-ADDRESS=1 Mohegan Sun Blvd\, \, Unc
 asville\, \, Connecticut\, \, 06382\, New England \, United States;X-APPLE
 -RADIUS=100;X-TITLE=Mohegan Sun:geo:0,0
END:VEVENT
BEGIN:VTIMEZONE
TZID:America/New_York
X-LIC-LOCATION:America/New_York
BEGIN:DAYLIGHT
DTSTART:20240310T030000
TZOFFSETFROM:-0500
TZOFFSETTO:-0400
TZNAME:EDT
END:DAYLIGHT
END:VTIMEZONE
END:VCALENDAR