BEGIN:VCALENDAR
VERSION:2.0
PRODID:-//wp-events-plugin.com//7.2.3.1//EN
TZID:America/New_York
X-WR-TIMEZONE:America/New_York
BEGIN:VEVENT
UID:14709@findingconnecticut.com
DTSTART;TZID=America/New_York:20260603T200000
DTEND;TZID=America/New_York:20260603T233000
DTSTAMP:20260305T005334Z
URL:https://findingconnecticut.com/events/kid-cudi-the-meadows-music-theat
 re-hartford-ct-june-3-2026/
SUMMARY:Kid Cudi
DESCRIPTION:Kid Cudi\nJune 3\, 2026\n\nClick here for more information \n\
 nXfinity Theatre \n61 Savitt Way\nHartford\, CT 06120\n\nClick here to re
 turn to Finding Connecticut's home page\nAs of March 2025\, all event list
 ings require payment.\nTo submit your event\, please send the event detail
 s along with a photo and/or logo to submissions at findingconnecticut dot 
 com. You can complete your payment here\nYour event will be published wit
 hin 24 hours after both payment and all required information have been rec
 eived.\nWe offer discounts for multiple event listings.\nThank you for sup
 porting Finding Connecticut—your participation helps us grow our websit
 e and brand.\n(We do not publish any content that has to do with areas out
 side of Connecticut. If you are looking to post on our Hudson Valley or Ne
 w York City pages\, then contact us via email.)\n\n\n[caption id="attachme
 nt_16083" align="alignnone" width="300"] shop.findingconnecticut.com[/capt
 ion]\n\n 
ATTACH;FMTTYPE=image/jpeg:https://findingconnecticut.com/wp-content/upload
 s/2026/01/MAIN-PRESS-IMAGE-CREDIT-ALDO-CHACON.jpg.jpg
CATEGORIES:Hartford
LOCATION:The Meadows Music Theatre\, 61 Savitt Way\, \, Hartford\,\, Connec
 ticut\, \, 06120\,\, New England \, United States
X-APPLE-STRUCTURED-LOCATION;VALUE=URI;X-ADDRESS=61 Savitt Way\, \, Hartford
 \,\, Connecticut\, \, 06120\,\, New England \, United States;X-APPLE-RADIU
 S=100;X-TITLE=The Meadows Music Theatre:geo:0,0
END:VEVENT
BEGIN:VTIMEZONE
TZID:America/New_York
X-LIC-LOCATION:America/New_York
BEGIN:DAYLIGHT
DTSTART:20260308T030000
TZOFFSETFROM:-0500
TZOFFSETTO:-0400
TZNAME:EDT
END:DAYLIGHT
END:VTIMEZONE
END:VCALENDAR