BEGIN:VCALENDAR
VERSION:2.0
PRODID:-//wp-events-plugin.com//7.2.3.1//EN
TZID:America/New_York
X-WR-TIMEZONE:America/New_York
BEGIN:VEVENT
UID:11275@findingconnecticut.com
DTSTART;TZID=America/New_York:20250703T090000
DTEND;TZID=America/New_York:20250703T170000
DTSTAMP:20250421T124615Z
URL:https://findingconnecticut.com/events/karen-neems-orchestrated-realiti
 es-2025-07-03/
SUMMARY:Karen Neems: Orchestrated Realities
DESCRIPTION:Karen Neems: Orchestrated Realities\n Click here for more info
 rmation \n\n The Gallery at Still River Editions\n128 E Liberty St #3\,\
 nDanbury\, CT 06810\n\n  Click here to return to Finding Connecticut's ho
 me page\nAs of March 2025\, all event listings require payment.\nTo submit
  your event\, please send the event details along with a photo and/or logo
  to submissions at findingconnecticut dot com. You can complete your payme
 nt here\nYour event will be published within 24 hours after both payment 
 and all required information have been received.\nWe offer discounts for m
 ultiple event listings.\nThank you for supporting Finding Connecticut—y
 our participation helps us grow our website and brand.\n\n\n[caption id="a
 ttachment_16083" align="alignnone" width="300"] shop.findingconnecticut.co
 m[/caption]
ATTACH;FMTTYPE=image/jpeg:https://findingconnecticut.com/wp-content/upload
 s/2025/04/NEEMS_Daydream-.jpg
CATEGORIES:Danbury
LOCATION:The Gallery at Still River Editions\, 128 E Liberty St #3\, Danbur
 y\, Connecticut \, 06810\, New England \, United States
X-APPLE-STRUCTURED-LOCATION;VALUE=URI;X-ADDRESS=128 E Liberty St #3\, Danbu
 ry\, Connecticut \, 06810\, New England \, United States;X-APPLE-RADIUS=10
 0;X-TITLE=The Gallery at Still River Editions:geo:0,0
END:VEVENT
BEGIN:VTIMEZONE
TZID:America/New_York
X-LIC-LOCATION:America/New_York
BEGIN:DAYLIGHT
DTSTART:20250309T030000
TZOFFSETFROM:-0500
TZOFFSETTO:-0400
TZNAME:EDT
END:DAYLIGHT
END:VTIMEZONE
END:VCALENDAR