BEGIN:VCALENDAR
VERSION:2.0
PRODID:-//wp-events-plugin.com//7.2.3.1//EN
TZID:America/New_York
X-WR-TIMEZONE:America/New_York
BEGIN:VEVENT
UID:724@findingconnecticut.com
DTSTART;TZID=America/New_York:20230406T193000
DTEND;TZID=America/New_York:20230406T223000
DTSTAMP:20230321T145710Z
URL:https://findingconnecticut.com/events/kaki-king/
SUMMARY:Kaki King
DESCRIPTION:Kaki King\nApril 6\, 2023  •  7:30 PM\n\nClick here for mor
 e information\n\nMohegan Sun \n1 Mohegan Sun Blvd.\nUncasville\, CT 06382
 \n\nTo add an event please email us\, we monitor for spam. We need a photo
 \, description and website for each submission - We do not accept submissi
 ons that are within the next 3 days. submissions@findingconnecticut.com\n\
 n[caption id="attachment_16083" align="alignnone" width="300"] shop.findin
 gconnecticut.com[/caption]
ATTACH;FMTTYPE=image/jpeg:https://findingconnecticut.com/wp-content/upload
 s/2023/03/image002-11-1.jpg
CATEGORIES:Old Saybrook
LOCATION:The Katherine Hepburn Culture Arts Center\, 300 Main Street\, \, O
 ld Saybrook\, \, Connecticut \, 06475\, New England \, United States
X-APPLE-STRUCTURED-LOCATION;VALUE=URI;X-ADDRESS=300 Main Street\, \, Old Sa
 ybrook\, \, Connecticut \, 06475\, New England \, United States;X-APPLE-RA
 DIUS=100;X-TITLE=The Katherine Hepburn Culture Arts Center:geo:0,0
END:VEVENT
BEGIN:VTIMEZONE
TZID:America/New_York
X-LIC-LOCATION:America/New_York
BEGIN:DAYLIGHT
DTSTART:20230312T030000
TZOFFSETFROM:-0500
TZOFFSETTO:-0400
TZNAME:EDT
END:DAYLIGHT
END:VTIMEZONE
END:VCALENDAR