BEGIN:VCALENDAR
VERSION:2.0
PRODID:-//wp-events-plugin.com//7.2.3.1//EN
TZID:America/New_York
X-WR-TIMEZONE:America/New_York
BEGIN:VEVENT
UID:6087@findingconnecticut.com
DTSTART;TZID=America/New_York:20240627T110000
DTEND;TZID=America/New_York:20240627T200000
DTSTAMP:20240511T015724Z
URL:https://findingconnecticut.com/events/just-desserts-2-2024-06-27/
SUMMARY:Just Desserts
DESCRIPTION:Just Desserts\n  Click here for more information \n\nShare yo
 ur Fairfield University Art Museum experience with us by using #findingcon
 necticut on Instagram\nClick here to learn more about Fairfield Universit
 y Art Museum\nClick here for recent news at the Fairfield University Art M
 useum \nClick here for the latest events at the Fairfield University Art 
 Museum\nClick here for the upcoming events in Fairfield\nClick here for th
 e latest news in Fairfield County\nClick here for the upcoming events in F
 airfield County\n\nTo add an event please email us\, we monitor for spam. 
 We need a photo\, description and website for each submission - We do not 
 accept submissions that are within the next 3 days. submissions at finding
 connecticut.com
ATTACH;FMTTYPE=image/jpeg:https://findingconnecticut.com/wp-content/upload
 s/2024/05/Ice-Cream-Sandwich.jpg
CATEGORIES:Fairfield
END:VEVENT
BEGIN:VTIMEZONE
TZID:America/New_York
X-LIC-LOCATION:America/New_York
BEGIN:DAYLIGHT
DTSTART:20240310T030000
TZOFFSETFROM:-0500
TZOFFSETTO:-0400
TZNAME:EDT
END:DAYLIGHT
END:VTIMEZONE
END:VCALENDAR