BEGIN:VCALENDAR
VERSION:2.0
PRODID:-//wp-events-plugin.com//7.2.3.1//EN
TZID:America/New_York
X-WR-TIMEZONE:America/New_York
BEGIN:VEVENT
UID:1841@findingconnecticut.com
DTSTART;TZID=America/New_York;VALUE=DATE:20231105
DTEND;TZID=America/New_York;VALUE=DATE:20231106
DTSTAMP:20230714T012504Z
URL:https://findingconnecticut.com/events/jurassic-world-live-tour-3/
SUMMARY:Jurassic World Live Tour
DESCRIPTION:Jurassic World Live Tour\nNovember 5\, 2023\n Click here for m
 ore information \n\n  XL Center\n1 Civic Center Plaza\nHartford\, CT 061
 03\n\nTo add an event please email us\, we monitor for spam. We need a pho
 to\, description and website for each submission - We do not accept submis
 sions that are within the next 3 days. submissions at findingconnecticut.c
 om\n\n[caption id="attachment_16083" align="alignnone" width="300"] shop.f
 indingconnecticut.com[/caption]
ATTACH;FMTTYPE=image/jpeg:https://findingconnecticut.com/wp-content/upload
 s/2023/07/Adventure-Zone-2.jpg
CATEGORIES:Hartford
LOCATION:People'sBank Arena\, 1 Civic Center Plaza\, Hartford\,  CT \, 0610
 3\, New England\, \, United States
X-APPLE-STRUCTURED-LOCATION;VALUE=URI;X-ADDRESS=1 Civic Center Plaza\, Hart
 ford\,  CT \, 06103\, New England\, \, United States;X-APPLE-RADIUS=100;X-
 TITLE=People'sBank Arena:geo:0,0
END:VEVENT
BEGIN:VTIMEZONE
TZID:America/New_York
X-LIC-LOCATION:America/New_York
BEGIN:DAYLIGHT
DTSTART:20230312T030000
TZOFFSETFROM:-0500
TZOFFSETTO:-0400
TZNAME:EDT
END:DAYLIGHT
BEGIN:STANDARD
DTSTART:20231105T010000
TZOFFSETFROM:-0400
TZOFFSETTO:-0500
TZNAME:EST
END:STANDARD
END:VTIMEZONE
END:VCALENDAR