BEGIN:VCALENDAR
VERSION:2.0
PRODID:-//wp-events-plugin.com//7.2.3.1//EN
TZID:America/New_York
X-WR-TIMEZONE:America/New_York
BEGIN:VEVENT
UID:1813@findingconnecticut.com
DTSTART;TZID=America/New_York:20231022T190000
DTEND;TZID=America/New_York:20231022T223000
DTSTAMP:20230702T161331Z
URL:https://findingconnecticut.com/events/judge/
SUMMARY:Judge
DESCRIPTION:Judge w/ 108\, Anklebiter\, Dead Wrong\nOctober 22\, 2023 • 7
  PM\n Click here for more information \n\n Space Ballroom\n425 Treadwel
 l Street\nHamden\, CT 06514\n\nTo add an event please email us\, we monito
 r for spam. We need a photo\, description and website for each submission 
 - We do not accept submissions that are within the next 3 days. submission
 s at findingconnecticut.com  \n\n[caption id="attachment_16083" align="a
 lignnone" width="300"] shop.findingconnecticut.com[/caption]\n\n&nbsp\;
ATTACH;FMTTYPE=image/jpeg:https://findingconnecticut.com/wp-content/upload
 s/2023/07/Screenshot-2023-07-02-at-10.24.26-AM.png
CATEGORIES:Hamden
LOCATION:Space Ballroom\, 295 Treadwell St\,\,  Hamden\, \, Connecticut\, \
 , 06514\, United States
X-APPLE-STRUCTURED-LOCATION;VALUE=URI;X-ADDRESS=295 Treadwell St\,\,  Hamde
 n\, \, Connecticut\, \, 06514\, United States;X-APPLE-RADIUS=100;X-TITLE=S
 pace Ballroom:geo:0,0
END:VEVENT
BEGIN:VTIMEZONE
TZID:America/New_York
X-LIC-LOCATION:America/New_York
BEGIN:DAYLIGHT
DTSTART:20230312T030000
TZOFFSETFROM:-0500
TZOFFSETTO:-0400
TZNAME:EDT
END:DAYLIGHT
END:VTIMEZONE
END:VCALENDAR