BEGIN:VCALENDAR
VERSION:2.0
PRODID:-//wp-events-plugin.com//7.2.3.1//EN
TZID:America/New_York
X-WR-TIMEZONE:America/New_York
BEGIN:VEVENT
UID:14795@findingconnecticut.com
DTSTART;TZID=America/New_York:20260918T200000
DTEND;TZID=America/New_York:20260918T220000
DTSTAMP:20260406T210008Z
URL:https://findingconnecticut.com/events/josh-johnson-the-bushnell-hartfo
 rd-ct-september-18-2026/
SUMMARY:Josh Johnson
DESCRIPTION:Josh Johnson\nSeptember 18\, 2026  • 8 pm\n\n Click here fo
 r more information \n\n The Bushnell\n166 Capitol Ave\nHartford\, CT 061
 06\n\n Click here to return to Finding Connecticut's home page\n\n[captio
 n id="attachment_16083" align="alignnone" width="300"] shop.findingconnect
 icut.com[/caption]\n\n&nbsp\;
ATTACH;FMTTYPE=image/jpeg:https://findingconnecticut.com/wp-content/upload
 s/2026/03/JOSH-APPROVED-PHOTO.jpg
CATEGORIES:Hartford
LOCATION:The Bushnell\, 166 Capitol Ave\, \, Hartford\,\, Connecticut\, \, 
 06106\, \, New England\, \, United States
X-APPLE-STRUCTURED-LOCATION;VALUE=URI;X-ADDRESS=166 Capitol Ave\, \, Hartfo
 rd\,\, Connecticut\, \, 06106\, \, New England\, \, United States;X-APPLE-
 RADIUS=100;X-TITLE=The Bushnell:geo:0,0
END:VEVENT
BEGIN:VTIMEZONE
TZID:America/New_York
X-LIC-LOCATION:America/New_York
BEGIN:DAYLIGHT
DTSTART:20260308T030000
TZOFFSETFROM:-0500
TZOFFSETTO:-0400
TZNAME:EDT
END:DAYLIGHT
END:VTIMEZONE
END:VCALENDAR