BEGIN:VCALENDAR
VERSION:2.0
PRODID:-//wp-events-plugin.com//7.2.3.1//EN
TZID:America/New_York
X-WR-TIMEZONE:America/New_York
BEGIN:VEVENT
UID:1046@findingconnecticut.com
DTSTART;TZID=America/New_York:20231228T190000
DTEND;TZID=America/New_York:20231228T223000
DTSTAMP:20230503T001858Z
URL:https://findingconnecticut.com/events/joe-gatto/
SUMMARY:Joe Gatto
DESCRIPTION:Joe Gatto\nDecember 28\, 2023  •  7 PM\n\nClick here for mo
 re information \n\n College Street Music Hall\n238 College Street\nNew H
 aven\, CT 06510\n\nTo add an event please email us\, we monitor for spam. 
 We need a photo\, description and website for each submission - We do not 
 accept submissions that are within the next 3 days. submissions at finding
 connecticut.com \n\n\n[caption id="attachment_16083" align="alignnone" wi
 dth="300"] shop.findingconnecticut.com[/caption]\n\n 
ATTACH;FMTTYPE=image/jpeg:https://findingconnecticut.com/wp-content/upload
 s/2023/05/Screenshot-2023-05-02-at-12.52.00-PM.png
CATEGORIES:New Haven
LOCATION:College Street Music Hall\, 238 College St\, \, New Haven\, \, Con
 necticut \, 06510\, New England \, United States
X-APPLE-STRUCTURED-LOCATION;VALUE=URI;X-ADDRESS=238 College St\, \, New Hav
 en\, \, Connecticut \, 06510\, New England \, United States;X-APPLE-RADIUS
 =100;X-TITLE=College Street Music Hall:geo:0,0
END:VEVENT
BEGIN:VTIMEZONE
TZID:America/New_York
X-LIC-LOCATION:America/New_York
BEGIN:STANDARD
DTSTART:20231105T010000
TZOFFSETFROM:-0400
TZOFFSETTO:-0500
TZNAME:EST
END:STANDARD
END:VTIMEZONE
END:VCALENDAR