BEGIN:VCALENDAR
VERSION:2.0
PRODID:-//wp-events-plugin.com//7.2.3.1//EN
TZID:America/New_York
X-WR-TIMEZONE:America/New_York
BEGIN:VEVENT
UID:14953@findingconnecticut.com
DTSTART;TZID=America/New_York:20260624T190000
DTEND;TZID=America/New_York:20260624T223000
DTSTAMP:20260421T115515Z
URL:https://findingconnecticut.com/events/jimmy-eat-world-hartford-healthc
 are-amp-bridgeport-ct-june-24-2026/
SUMMARY:Jimmy Eat World
DESCRIPTION:Jimmy Eat World\nJune 24\, 2026\n\nClick here for more informat
 ion \n\n Hartford Healthcare Amphitheater\n 500 Broad Street\n Bridgep
 ort\, CT 06604\n\n Click here to return to Finding Connecticut's home pag
 e\nAs of March 2025\, all event listings require payment.\nTo submit your 
 event\, please send the event details along with a photo and/or logo to su
 bmissions at findingconnecticut dot com. You can complete your payment he
 re\nYour event will be published within 24 hours after both payment and al
 l required information have been received.\nWe offer discounts for multipl
 e event listings.\nThank you for supporting Finding Connecticut—your pa
 rticipation helps us grow our website and brand.\n\n\n[caption id="attachm
 ent_16083" align="alignnone" width="300"] shop.findingconnecticut.com[/cap
 tion]
ATTACH;FMTTYPE=image/jpeg:https://findingconnecticut.com/wp-content/upload
 s/2026/04/Jimmy-Eat-World.png
CATEGORIES:Bridgeport
LOCATION:Hartford HealthCare Amphitheater\, 500 Broad St\, \, Bridgeport\, 
 \, Connecticut\, \, 06604\,\, New England\, \, United States
X-APPLE-STRUCTURED-LOCATION;VALUE=URI;X-ADDRESS=500 Broad St\, \, Bridgepor
 t\, \, Connecticut\, \, 06604\,\, New England\, \, United States;X-APPLE-R
 ADIUS=100;X-TITLE=Hartford HealthCare Amphitheater:geo:0,0
END:VEVENT
BEGIN:VTIMEZONE
TZID:America/New_York
X-LIC-LOCATION:America/New_York
BEGIN:DAYLIGHT
DTSTART:20260308T030000
TZOFFSETFROM:-0500
TZOFFSETTO:-0400
TZNAME:EDT
END:DAYLIGHT
END:VTIMEZONE
END:VCALENDAR