BEGIN:VCALENDAR
VERSION:2.0
PRODID:-//wp-events-plugin.com//7.2.3.1//EN
TZID:America/New_York
X-WR-TIMEZONE:America/New_York
BEGIN:VEVENT
UID:487@findingconnecticut.com
DTSTART;TZID=America/New_York:20230809T190000
DTEND;TZID=America/New_York:20230809T223000
DTSTAMP:20230220T175648Z
URL:https://findingconnecticut.com/events/jelly-roll/
SUMMARY:Jelly Roll
DESCRIPTION:Jelly Roll with Struggle Jennings\, &amp\;  Caitlynne Curtis\n
 August 9\, 2023 • 7 PM\n\nClick here for more information \nHartford He
 althcare Amphitheater\n500 Broad Street\nBridgeport\, CT 06604\n\n\nTo add
  an event please email us\, we monitor for spam. We need a photo\, descrip
 tion and website for each submission - We do not accept submissions that a
 re within the next 3 days. submissions@findingconnecticut.com\n\n\n[captio
 n id="attachment_16083" align="alignnone" width="300"] shop.findingconnect
 icut.com[/caption]\n\n&nbsp\;
ATTACH;FMTTYPE=image/jpeg:https://findingconnecticut.com/wp-content/upload
 s/2023/02/JellyRoll_2023_TourPoster01c.jpg
CATEGORIES:Bridgeport
LOCATION:Hartford HealthCare Amphitheater\, 500 Broad St\, \, Bridgeport\, 
 \, Connecticut\, \, 06604\,\, New England\, \, United States
X-APPLE-STRUCTURED-LOCATION;VALUE=URI;X-ADDRESS=500 Broad St\, \, Bridgepor
 t\, \, Connecticut\, \, 06604\,\, New England\, \, United States;X-APPLE-R
 ADIUS=100;X-TITLE=Hartford HealthCare Amphitheater:geo:0,0
END:VEVENT
BEGIN:VTIMEZONE
TZID:America/New_York
X-LIC-LOCATION:America/New_York
BEGIN:DAYLIGHT
DTSTART:20230312T030000
TZOFFSETFROM:-0500
TZOFFSETTO:-0400
TZNAME:EDT
END:DAYLIGHT
END:VTIMEZONE
END:VCALENDAR