BEGIN:VCALENDAR
VERSION:2.0
PRODID:-//wp-events-plugin.com//7.2.3.1//EN
TZID:America/New_York
X-WR-TIMEZONE:America/New_York
BEGIN:VEVENT
UID:1300@findingconnecticut.com
DTSTART;TZID=America/New_York:20230909T080000
DTEND;TZID=America/New_York:20230909T103000
DTSTAMP:20230527T133722Z
URL:https://findingconnecticut.com/events/jeff-rosenstock/
SUMMARY:Jeff Rosenstock
DESCRIPTION:Jeff Rosenstock w/ Sidney Gish\, Gladie\nSeptember 9\, 2023  
 •  8:00PM\nClick here for more information \n\n College Street Music 
 Hall\n238 College Street\nNew Haven\, CT 06510\n\nTo add an event please e
 mail us\, we monitor for spam. We need a photo\, description and website f
 or each submission - We do not accept submissions that are within the next
  3 days. submissions at findingconnecticut.com  \n\n[caption id="attachm
 ent_16083" align="alignnone" width="300"] shop.findingconnecticut.com[/cap
 tion]
ATTACH;FMTTYPE=image/jpeg:https://findingconnecticut.com/wp-content/upload
 s/2023/05/Screenshot-2023-05-27-at-8.23.22-AM.png
CATEGORIES:New Haven
LOCATION:College Street Music Hall\, 238 College St\, \, New Haven\, \, Con
 necticut \, 06510\, New England \, United States
X-APPLE-STRUCTURED-LOCATION;VALUE=URI;X-ADDRESS=238 College St\, \, New Hav
 en\, \, Connecticut \, 06510\, New England \, United States;X-APPLE-RADIUS
 =100;X-TITLE=College Street Music Hall:geo:0,0
END:VEVENT
BEGIN:VTIMEZONE
TZID:America/New_York
X-LIC-LOCATION:America/New_York
BEGIN:DAYLIGHT
DTSTART:20230312T030000
TZOFFSETFROM:-0500
TZOFFSETTO:-0400
TZNAME:EDT
END:DAYLIGHT
END:VTIMEZONE
END:VCALENDAR