BEGIN:VCALENDAR
VERSION:2.0
PRODID:-//wp-events-plugin.com//7.2.3.1//EN
TZID:America/New_York
X-WR-TIMEZONE:America/New_York
BEGIN:VEVENT
UID:11567@findingconnecticut.com
DTSTART;TZID=America/New_York:20250816T200000
DTEND;TZID=America/New_York:20250816T223000
DTSTAMP:20250627T140918Z
URL:https://findingconnecticut.com/events/jane-lynch-and-kate-flannery-moh
 egan-sun-connecticut-august-16-2025/
SUMMARY:Jane Lynch and Kate Flannery
DESCRIPTION:Jane Lynch and Kate Flannery\nAugust 16 2025  •  8:00pm\n\n
  Click here for more information \n\nThis show is at the Wolf Den's Venu
 e\n\n Mohegan Sun \n1 Mohegan Sun Blvd.\nUncasville\, CT 06382\n\n Clic
 k here to return to Finding Connecticut's home page\nAs of March 2025\, al
 l event listings require payment.\nTo submit your event\, please send the 
 event details along with a photo and/or logo to submissions at findingconn
 ecticut dot com. You can complete your payment here\nYour event will be p
 ublished within 24 hours after both payment and all required information h
 ave been received.\nWe offer discounts for multiple event listings.\nThank
  you for supporting Finding Connecticut—your participation helps us gro
 w our website and brand.\n(We do not publish any content that has to do wi
 th areas outside of Connecticut. If you are looking to post on our Hudson 
 Valley or New York City pages\, then contact us via email.)\n\n\n[caption 
 id="attachment_16083" align="alignnone" width="300"] shop.findingconnectic
 ut.com[/caption]
ATTACH;FMTTYPE=image/jpeg:https://findingconnecticut.com/wp-content/upload
 s/2025/05/unnamed-58.png
CATEGORIES:Uncasville
LOCATION:Mohegan Sun\, 1 Mohegan Sun Blvd\, \, Uncasville\, \, Connecticut\
 , \, 06382\, New England \, United States
X-APPLE-STRUCTURED-LOCATION;VALUE=URI;X-ADDRESS=1 Mohegan Sun Blvd\, \, Unc
 asville\, \, Connecticut\, \, 06382\, New England \, United States;X-APPLE
 -RADIUS=100;X-TITLE=Mohegan Sun:geo:0,0
END:VEVENT
BEGIN:VTIMEZONE
TZID:America/New_York
X-LIC-LOCATION:America/New_York
BEGIN:DAYLIGHT
DTSTART:20250309T030000
TZOFFSETFROM:-0500
TZOFFSETTO:-0400
TZNAME:EDT
END:DAYLIGHT
END:VTIMEZONE
END:VCALENDAR