BEGIN:VCALENDAR
VERSION:2.0
PRODID:-//wp-events-plugin.com//7.2.3.1//EN
TZID:America/New_York
X-WR-TIMEZONE:America/New_York
BEGIN:VEVENT
UID:14736@findingconnecticut.com
DTSTART;TZID=America/New_York:20260926T200000
DTEND;TZID=America/New_York:20260926T223000
DTSTAMP:20260310T152447Z
URL:https://findingconnecticut.com/events/im-your-man-a-birthday-tribute-t
 o-leonard-cohen-fairfield-theatre-company-september-26-2026/
SUMMARY:I’m Your Man: A Birthday Tribute to Leonard Cohen
DESCRIPTION:I’m Your Man: A Birthday Tribute to Leonard Cohen\nSeptember 
 26\, 2026 • 8 PM\n\n Click here for more information \n\n The Warehou
 se at Fairfield Theatre Company \n70 Sanford Street\nFairfield\, CT 06824\
 nAs of March 2025\, all event listings require payment.\nTo submit your ev
 ent\, please send the event details along with a photo and/or logo to subm
 issions at findingconnecticut dot com. You can complete your payment here
 \nYour event will be published within 24 hours after both payment and all 
 required information have been received.\nWe offer discounts for multiple 
 event listings.\nThank you for supporting Finding Connecticut—your part
 icipation helps us grow our website and brand.\n(We do not publish any con
 tent that has to do with areas outside of Connecticut. If you are looking 
 to post on our Hudson Valley or New York City pages\, then contact us via 
 email.)\n\n\n[caption id="attachment_16083" align="alignnone" width="300"]
  shop.findingconnecticut.com[/caption]
ATTACH;FMTTYPE=image/jpeg:https://findingconnecticut.com/wp-content/upload
 s/2024/08/Warehouse_FHD_v1.jpg
CATEGORIES:Fairfield
LOCATION:The Warehouse @ Fairfield Theatre Company\, 70 Stanford Street \, 
 Fairfield\, Connecticut \, 06824\, New England \, United States
X-APPLE-STRUCTURED-LOCATION;VALUE=URI;X-ADDRESS=70 Stanford Street \, Fairf
 ield\, Connecticut \, 06824\, New England \, United States;X-APPLE-RADIUS=
 100;X-TITLE=The Warehouse @ Fairfield Theatre Company:geo:0,0
END:VEVENT
BEGIN:VTIMEZONE
TZID:America/New_York
X-LIC-LOCATION:America/New_York
BEGIN:DAYLIGHT
DTSTART:20260308T030000
TZOFFSETFROM:-0500
TZOFFSETTO:-0400
TZNAME:EDT
END:DAYLIGHT
END:VTIMEZONE
END:VCALENDAR