BEGIN:VCALENDAR
VERSION:2.0
PRODID:-//wp-events-plugin.com//7.2.3.1//EN
TZID:America/New_York
X-WR-TIMEZONE:America/New_York
BEGIN:VEVENT
UID:1971@findingconnecticut.com
DTSTART;TZID=America/New_York:20230914T200000
DTEND;TZID=America/New_York:20230914T223000
DTSTAMP:20230717T162945Z
URL:https://findingconnecticut.com/events/ilana-glazer/
SUMMARY:Ilana Glazer
DESCRIPTION:Ilana Glazer\nSeptember 14\, 2023 • 8 PM\nClick here for more
  information\n\n College Street Music Hall\n238 College Street\nNew Haven
 \, CT 06510\n\nTo add an event please email us\, we monitor for spam. We n
 eed a photo\, description and website for each submission - We do not acce
 pt submissions that are within the next 3 days. submissions at findingconn
 ecticut.com\n\n[caption id="attachment_16083" align="alignnone" width="300
 "] shop.findingconnecticut.com[/caption]\n\n 
ATTACH;FMTTYPE=image/jpeg:https://findingconnecticut.com/wp-content/upload
 s/2023/07/Screenshot-2023-07-17-at-11.18.13-AM.png
CATEGORIES:New Haven
LOCATION:College Street Music Hall\, 238 College St\, \, New Haven\, \, Con
 necticut \, 06510\, New England \, United States
X-APPLE-STRUCTURED-LOCATION;VALUE=URI;X-ADDRESS=238 College St\, \, New Hav
 en\, \, Connecticut \, 06510\, New England \, United States;X-APPLE-RADIUS
 =100;X-TITLE=College Street Music Hall:geo:0,0
END:VEVENT
BEGIN:VTIMEZONE
TZID:America/New_York
X-LIC-LOCATION:America/New_York
BEGIN:DAYLIGHT
DTSTART:20230312T030000
TZOFFSETFROM:-0500
TZOFFSETTO:-0400
TZNAME:EDT
END:DAYLIGHT
END:VTIMEZONE
END:VCALENDAR