BEGIN:VCALENDAR
VERSION:2.0
PRODID:-//wp-events-plugin.com//7.2.3.1//EN
TZID:America/New_York
X-WR-TIMEZONE:America/New_York
BEGIN:VEVENT
UID:14957@findingconnecticut.com
DTSTART;TZID=America/New_York:20261115T200000
DTEND;TZID=America/New_York:20261115T223000
DTSTAMP:20260421T121321Z
URL:https://findingconnecticut.com/events/il-volo-mohegan-sun-november-15-
 2026/
SUMMARY:Il Volo
DESCRIPTION:Il Volo\nNovember 15\, 2026  •  8:00 pm\n\n Click here for
  more information \n\n Mohegan Sun \n1 Mohegan Sun Blvd.\nUncasville\, 
 CT 06382\nAs of March 2025\, all event listings require payment.\nTo submi
 t your event\, please send the event details along with a photo and/or log
 o to submissions at findingconnecticut dot com. You can complete your paym
 ent here\nYour event will be published within 24 hours after both payment
  and all required information have been received.\nWe offer discounts for 
 multiple event listings.\nThank you for supporting Finding Connecticut—
 your participation helps us grow our website and brand.\n(We do not publis
 h any content that has to do with areas outside of Connecticut. If you are
  looking to post on our Hudson Valley or New York City pages\, then contac
 t us via email.)\n Click here to return to Finding Connecticut's home pag
 e\n\n[caption id="attachment_16083" align="alignnone" width="300"] shop.fi
 ndingconnecticut.com[/caption]
ATTACH;FMTTYPE=image/jpeg:https://findingconnecticut.com/wp-content/upload
 s/2025/10/vcsPRAsset_2929240_174427_d173674f-0e1a-4186-a8fe-cbd9174b90e5_0
 .jpg
CATEGORIES:Uncasville
LOCATION:Mohegan Sun\, 1 Mohegan Sun Blvd\, \, Uncasville\, \, Connecticut\
 , \, 06382\, New England \, United States
X-APPLE-STRUCTURED-LOCATION;VALUE=URI;X-ADDRESS=1 Mohegan Sun Blvd\, \, Unc
 asville\, \, Connecticut\, \, 06382\, New England \, United States;X-APPLE
 -RADIUS=100;X-TITLE=Mohegan Sun:geo:0,0
END:VEVENT
BEGIN:VTIMEZONE
TZID:America/New_York
X-LIC-LOCATION:America/New_York
BEGIN:STANDARD
DTSTART:20261101T010000
TZOFFSETFROM:-0400
TZOFFSETTO:-0500
TZNAME:EST
END:STANDARD
END:VTIMEZONE
END:VCALENDAR