BEGIN:VCALENDAR
VERSION:2.0
PRODID:-//wp-events-plugin.com//7.2.3.1//EN
TZID:America/New_York
X-WR-TIMEZONE:America/New_York
BEGIN:VEVENT
UID:722@findingconnecticut.com
DTSTART;TZID=America/New_York;VALUE=DATE:20230812
DTEND;TZID=America/New_York;VALUE=DATE:20230813
DTSTAMP:20230320T203639Z
URL:https://findingconnecticut.com/events/hot-wheels-monster-truck-glow-pa
 rty-2/
SUMMARY:Hot Wheels Monster Truck Glow Party
DESCRIPTION:Hot Wheels Monster Truck Glow Party\nAugust 13\, 2023  •   
 Time vary\n\n   Click here for more information \n\n  XL Center\n  1 
 Civic Center Plaza\n  Hartford\, CT 06103\n\nTo add an event please email
  us\, we monitor for spam. We need a photo\, description and website for e
 ach submission - We do not accept submissions that are within the next 3 d
 ays. submissions@findingconnecticut.com\n\n&nbsp\;\n\n[caption id="attachm
 ent_16083" align="alignnone" width="300"] shop.findingconnecticut.com[/cap
 tion]
ATTACH;FMTTYPE=image/jpeg:https://findingconnecticut.com/wp-content/upload
 s/2023/03/95041-hot-wheels-monster-trucks-live-glow-party-2865983704.jpeg
CATEGORIES:Hartford
LOCATION:People'sBank Arena\, 1 Civic Center Plaza\, Hartford\,  CT \, 0610
 3\, New England\, \, United States
X-APPLE-STRUCTURED-LOCATION;VALUE=URI;X-ADDRESS=1 Civic Center Plaza\, Hart
 ford\,  CT \, 06103\, New England\, \, United States;X-APPLE-RADIUS=100;X-
 TITLE=People'sBank Arena:geo:0,0
END:VEVENT
BEGIN:VTIMEZONE
TZID:America/New_York
X-LIC-LOCATION:America/New_York
BEGIN:DAYLIGHT
DTSTART:20230312T030000
TZOFFSETFROM:-0500
TZOFFSETTO:-0400
TZNAME:EDT
END:DAYLIGHT
END:VTIMEZONE
END:VCALENDAR