BEGIN:VCALENDAR
VERSION:2.0
PRODID:-//wp-events-plugin.com//7.2.3.1//EN
TZID:America/New_York
X-WR-TIMEZONE:America/New_York
BEGIN:VEVENT
UID:14352@findingconnecticut.com
DTSTART;TZID=America/New_York:20260314T193000
DTEND;TZID=America/New_York:20260314T213000
DTSTAMP:20260227T003242Z
URL:https://findingconnecticut.com/events/horizons-of-the-earth/
SUMMARY:Horizons of the Earth
DESCRIPTION:Horizons of the Earth\nMarch 14\, 2026  •  7:30 pm\n\n Cli
 ck here for more information \nAs of March 2025\, all event listings requ
 ire payment.\nTo submit your event\, please send the event details along w
 ith a photo and/or logo to submissions at findingconnecticut dot com. You 
 can complete your payment here\nYour event will be published within 24 ho
 urs after both payment and all required information have been received.\nW
 e offer discounts for multiple event listings.\nThank you for supporting 
 Finding Connecticut—your participation helps us grow our website and bra
 nd.\n(We do not publish any content that has to do with areas outside of C
 onnecticut. If you are looking to post on our Hudson Valley or New York Ci
 ty pages\, then contact us via email.)\n Click here to return to Finding 
 Connecticut's home page\n\n[caption id="attachment_16083" align="alignnone
 " width="300"] shop.findingconnecticut.com[/caption]
ATTACH;FMTTYPE=image/jpeg:https://findingconnecticut.com/wp-content/upload
 s/2026/02/S804-Photo.png
CATEGORIES:Bridgeport
LOCATION:Mertens Theatre\, 84 Iranistan Ave\, Bridgeport\, CT\, 06604\, New
  England\, United States
X-APPLE-STRUCTURED-LOCATION;VALUE=URI;X-ADDRESS=84 Iranistan Ave\, Bridgepo
 rt\, CT\, 06604\, New England\, United States;X-APPLE-RADIUS=100;X-TITLE=M
 ertens Theatre:geo:0,0
END:VEVENT
BEGIN:VTIMEZONE
TZID:America/New_York
X-LIC-LOCATION:America/New_York
BEGIN:DAYLIGHT
DTSTART:20260308T030000
TZOFFSETFROM:-0500
TZOFFSETTO:-0400
TZNAME:EDT
END:DAYLIGHT
END:VTIMEZONE
END:VCALENDAR