BEGIN:VCALENDAR
VERSION:2.0
PRODID:-//wp-events-plugin.com//7.2.3.1//EN
TZID:America/New_York
X-WR-TIMEZONE:America/New_York
BEGIN:VEVENT
UID:11569@findingconnecticut.com
DTSTART;TZID=America/New_York:20251009T110000
DTEND;TZID=America/New_York:20251009T130000
DTSTAMP:20250627T180817Z
URL:https://findingconnecticut.com/events/hispanic-folk-tales-the-bushnell
 -hartford-ct-october-9-2025-10-am/
SUMMARY:Hispanic Folk Tales
DESCRIPTION:Hispanic Folk Tales\nOctober 9 2025  • 10 am\n\n Click here
  for more information \n\n The Bushnell\n166 Capitol Ave\nHartford\, CT 
 06106\n\n Click here to return to Finding Connecticut's home page\nAs of 
 March 2025\, all event listings require payment.\nTo submit your event\, p
 lease send the event details along with a photo and/or logo to submissions
  at findingconnecticut dot com. You can complete your payment here\nYour 
 event will be published within 24 hours after both payment and all require
 d information have been received.\nWe offer discounts for multiple event l
 istings.\nThank you for supporting Finding Connecticut—your participati
 on helps us grow our website and brand.\n(We do not publish any content th
 at has to do with areas outside of Connecticut. If you are looking to post
  on our Hudson Valley or New York City pages\, then contact us via email.)
 \n\n\n[caption id="attachment_16083" align="alignnone" width="300"] shop.f
 indingconnecticut.com[/caption]\n\n&nbsp\;
ATTACH;FMTTYPE=image/jpeg:https://findingconnecticut.com/wp-content/upload
 s/2025/05/unnamed-57.png
CATEGORIES:Hartford
LOCATION:The Bushnell\, 166 Capitol Ave\, \, Hartford\,\, Connecticut\, \, 
 06106\, \, New England\, \, United States
X-APPLE-STRUCTURED-LOCATION;VALUE=URI;X-ADDRESS=166 Capitol Ave\, \, Hartfo
 rd\,\, Connecticut\, \, 06106\, \, New England\, \, United States;X-APPLE-
 RADIUS=100;X-TITLE=The Bushnell:geo:0,0
END:VEVENT
BEGIN:VTIMEZONE
TZID:America/New_York
X-LIC-LOCATION:America/New_York
BEGIN:DAYLIGHT
DTSTART:20250309T030000
TZOFFSETFROM:-0500
TZOFFSETTO:-0400
TZNAME:EDT
END:DAYLIGHT
END:VTIMEZONE
END:VCALENDAR