BEGIN:VCALENDAR
VERSION:2.0
PRODID:-//wp-events-plugin.com//7.2.3.1//EN
TZID:America/New_York
X-WR-TIMEZONE:America/New_York
BEGIN:VEVENT
UID:796@findingconnecticut.com
DTSTART;TZID=America/New_York:20230930T090000
DTEND;TZID=America/New_York:20230930T120000
DTSTAMP:20230326T200633Z
URL:https://findingconnecticut.com/events/higganum-farmers-market-15/
SUMMARY:Higganum Farmers Market
DESCRIPTION:Higganum Farmers Market\nSeptember 30\, 2023 • 9 am - 12 pm\n
 •\n272 Saybrook Rd.\nHigganum\, CT\nat the former haddam elementary scho
 ol\n•\nWe offer produce and fruits from 4 to 5 small local farms\, fresh
  baked goods and treats\, fresh bread\, spices\, tea\, crafters and jewele
 rs\, fresh flowers\, and eggs\, cheese.\n New this year\, we will be serv
 ing breakfast sandwiches and coffee made with local ingredients!\n•\n 
  To add an event please email us\, we monitor for spam. We need a photo\, 
 description and website for each submission - We do not accept submissions
  that are within the next 3 days. submissions@findingconnecticut.com\n\n\n
 [caption id="attachment_16083" align="alignnone" width="300"] shop.finding
 connecticut.com[/caption]\n\n\n&nbsp\;
ATTACH;FMTTYPE=image/jpeg:https://findingconnecticut.com/wp-content/upload
 s/2023/03/327408265_1332841027498555_6377291552660461772_n.jpg
CATEGORIES:Higganum
LOCATION:Higganum Farmers Market\, 272 Saybrook Rd.\, Higganum \, Connectic
 ut \, 06441\, New England\, United States
X-APPLE-STRUCTURED-LOCATION;VALUE=URI;X-ADDRESS=272 Saybrook Rd.\, Higganum
  \, Connecticut \, 06441\, New England\, United States;X-APPLE-RADIUS=100;
 X-TITLE=Higganum Farmers Market:geo:0,0
END:VEVENT
BEGIN:VTIMEZONE
TZID:America/New_York
X-LIC-LOCATION:America/New_York
BEGIN:DAYLIGHT
DTSTART:20230312T030000
TZOFFSETFROM:-0500
TZOFFSETTO:-0400
TZNAME:EDT
END:DAYLIGHT
END:VTIMEZONE
END:VCALENDAR