BEGIN:VCALENDAR
VERSION:2.0
PRODID:-//wp-events-plugin.com//7.2.3.1//EN
TZID:America/New_York
X-WR-TIMEZONE:America/New_York
BEGIN:VEVENT
UID:6107@findingconnecticut.com
DTSTART;TZID=America/New_York:20240527T110000
DTEND;TZID=America/New_York:20240527T160000
DTSTAMP:20240511T131411Z
URL:https://findingconnecticut.com/events/heroes-of-steel-car-show-on-memo
 rial-day/
SUMMARY:Heroes of Steel Car Show on Memorial Day
DESCRIPTION:Heroes of Steel Car Show on Memorial Day\nMay 27\,  2024  •
  11 am - 4 pm\n Click here for more information \n\n Lyman Orchards\nPo
 wder Hill Rd\nMiddlefield\, CT 06455\n\nTo add an event please email us\, 
 we monitor for spam. We need a photo\, description and website for each su
 bmission - We do not accept submissions that are within the next 3 days. s
 ubmissions at findingconnecticut.com  \n\n[caption id="attachment_16083"
  align="alignnone" width="300"] shop.findingconnecticut.com[/caption]\n\n&
 nbsp\;
ATTACH;FMTTYPE=image/jpeg:https://findingconnecticut.com/wp-content/upload
 s/2024/05/Heroes-of-Steel-Car-Show-Website.png
CATEGORIES:Middlefield
LOCATION:Lyman Orchards\, Powder Hill Rd\, Middlefield \, Connecticut\, 064
 55\, United States
X-APPLE-STRUCTURED-LOCATION;VALUE=URI;X-ADDRESS=Powder Hill Rd\, Middlefiel
 d \, Connecticut\, 06455\, United States;X-APPLE-RADIUS=100;X-TITLE=Lyman 
 Orchards:geo:0,0
END:VEVENT
BEGIN:VTIMEZONE
TZID:America/New_York
X-LIC-LOCATION:America/New_York
BEGIN:DAYLIGHT
DTSTART:20240310T030000
TZOFFSETFROM:-0500
TZOFFSETTO:-0400
TZNAME:EDT
END:DAYLIGHT
END:VTIMEZONE
END:VCALENDAR