BEGIN:VCALENDAR
VERSION:2.0
PRODID:-//wp-events-plugin.com//7.2.3.1//EN
TZID:America/New_York
X-WR-TIMEZONE:America/New_York
BEGIN:VEVENT
UID:11580@findingconnecticut.com
DTSTART;TZID=America/New_York:20260303T100000
DTEND;TZID=America/New_York:20260303T120000
DTSTAMP:20250503T021845Z
URL:https://findingconnecticut.com/events/hero-the-boy-from-troy-the-bushn
 ell-hartford-ct-march-3-2026-10-am/
SUMMARY:Hero: The Boy from Troy
DESCRIPTION:Hero: The Boy from Troy\nMarch 3 2026  • 10 am\n\n Click he
 re for more information \n\n The Bushnell\n166 Capitol Ave\nHartford\, C
 T 06106\n\n Click here to return to Finding Connecticut's home page\n\nTo
  add an event please email us\, we monitor for spam. We need a photo\, des
 cription and website for each submission - We do not accept submissions th
 at are within the next 3 days. submissions@findingconnecticut.com\n\n[capt
 ion id="attachment_16083" align="alignnone" width="300"] shop.findingconne
 cticut.com[/caption]\n\n&nbsp\;
ATTACH;FMTTYPE=image/jpeg:https://findingconnecticut.com/wp-content/upload
 s/2025/05/unnamed-57.png
CATEGORIES:Hartford
LOCATION:The Bushnell\, 166 Capitol Ave\, \, Hartford\,\, Connecticut\, \, 
 06106\, \, New England\, \, United States
X-APPLE-STRUCTURED-LOCATION;VALUE=URI;X-ADDRESS=166 Capitol Ave\, \, Hartfo
 rd\,\, Connecticut\, \, 06106\, \, New England\, \, United States;X-APPLE-
 RADIUS=100;X-TITLE=The Bushnell:geo:0,0
END:VEVENT
BEGIN:VTIMEZONE
TZID:America/New_York
X-LIC-LOCATION:America/New_York
BEGIN:STANDARD
DTSTART:20251102T010000
TZOFFSETFROM:-0400
TZOFFSETTO:-0500
TZNAME:EST
END:STANDARD
END:VTIMEZONE
END:VCALENDAR