BEGIN:VCALENDAR
VERSION:2.0
PRODID:-//wp-events-plugin.com//7.2.3.1//EN
TZID:America/New_York
X-WR-TIMEZONE:America/New_York
BEGIN:VEVENT
UID:14353@findingconnecticut.com
DTSTART;TZID=America/New_York:20260417T200000
DTEND;TZID=America/New_York:20260417T220000
DTSTAMP:20260227T003639Z
URL:https://findingconnecticut.com/events/hasan-hates-ronny-ronny-hates-ha
 san-the-bushnell-hartford-ct-april-17-2026/
SUMMARY:Hasan Hates Ronny | Ronny Hates Hasan
DESCRIPTION:Hasan Hates Ronny | Ronny Hates Hasan\nApril 17\,  2026\n\n C
 lick here for more information \n\n The Bushnell\n166 Capitol Ave\nHartf
 ord\, CT 06106\n\n Click here to return to Finding Connecticut's home pag
 e\n\nTo add an event please email us\, we monitor for spam. We need a phot
 o\, description and website for each submission - We do not accept submiss
 ions that are within the next 3 days. submissions@findingconnecticut.com\n
 \n[caption id="attachment_16083" align="alignnone" width="300"] shop.findi
 ngconnecticut.com[/caption]\n\n&nbsp\;
ATTACH;FMTTYPE=image/jpeg:https://findingconnecticut.com/wp-content/upload
 s/2026/02/RVH_Photo1.jpg
CATEGORIES:Hartford
LOCATION:The Bushnell\, 166 Capitol Ave\, \, Hartford\,\, Connecticut\, \, 
 06106\, \, New England\, \, United States
X-APPLE-STRUCTURED-LOCATION;VALUE=URI;X-ADDRESS=166 Capitol Ave\, \, Hartfo
 rd\,\, Connecticut\, \, 06106\, \, New England\, \, United States;X-APPLE-
 RADIUS=100;X-TITLE=The Bushnell:geo:0,0
END:VEVENT
BEGIN:VTIMEZONE
TZID:America/New_York
X-LIC-LOCATION:America/New_York
BEGIN:DAYLIGHT
DTSTART:20260308T030000
TZOFFSETFROM:-0500
TZOFFSETTO:-0400
TZNAME:EDT
END:DAYLIGHT
END:VTIMEZONE
END:VCALENDAR