BEGIN:VCALENDAR
VERSION:2.0
PRODID:-//wp-events-plugin.com//7.2.3.1//EN
TZID:America/New_York
X-WR-TIMEZONE:America/New_York
BEGIN:VEVENT
UID:5188@findingconnecticut.com
DTSTART;TZID=America/New_York:20241006T090000
DTEND;TZID=America/New_York:20241006T180000
DTSTAMP:20240126T140838Z
URL:https://findingconnecticut.com/events/harwinton-fair-6/
SUMMARY:Harwinton Fair
DESCRIPTION:Harwinton Fair\nOctober 6\, 2024  •  9-6 pm\n\n Click here
  for more information\n\nHarwinton Fair\n150 Locust Rd\nHarwinton\, CT 067
 91\n\nTo add an event please email us\, we monitor for spam. We need a pho
 to\, description and website for each submission - We do not accept submis
 sions that are within the next 3 days. submissions at findingconnecticut.c
 om  \n\n[caption id="attachment_16083" align="alignnone" width="300"] sh
 op.findingconnecticut.com[/caption]\n\n&nbsp\;\n\n&nbsp\;
ATTACH;FMTTYPE=image/jpeg:https://findingconnecticut.com/wp-content/upload
 s/2023/09/fairphoto.jpg
CATEGORIES:Harwinton
LOCATION:Harwinton Fair\, 150 Locust Rd\, Harwinton \, Connecticut \, 06791
 \, New England \, United States
X-APPLE-STRUCTURED-LOCATION;VALUE=URI;X-ADDRESS=150 Locust Rd\, Harwinton \
 , Connecticut \, 06791\, New England \, United States;X-APPLE-RADIUS=100;X
 -TITLE=Harwinton Fair:geo:0,0
END:VEVENT
BEGIN:VTIMEZONE
TZID:America/New_York
X-LIC-LOCATION:America/New_York
BEGIN:DAYLIGHT
DTSTART:20240310T030000
TZOFFSETFROM:-0500
TZOFFSETTO:-0400
TZNAME:EDT
END:DAYLIGHT
END:VTIMEZONE
END:VCALENDAR