BEGIN:VCALENDAR
VERSION:2.0
PRODID:-//wp-events-plugin.com//7.2.3.1//EN
TZID:America/New_York
X-WR-TIMEZONE:America/New_York
BEGIN:VEVENT
UID:1268@findingconnecticut.com
DTSTART;TZID=America/New_York:20230618T163000
DTEND;TZID=America/New_York:20230618T203000
DTSTAMP:20230518T123436Z
URL:https://findingconnecticut.com/events/guatemala-vs-venezuela/
SUMMARY:Guatemala vs Venezuela
DESCRIPTION:Guatemala vs. Venezuela\nJune 18\, 2023  • 4:30 pm\n\n  Cli
 ck here for more information \n\n  Pratt &amp\; Whitney Stadium at Rents
 chler Field \n615 Silver Lane\nEast Hartford\, CT 06118\n\nTo add an even
 t please email us\, we monitor for spam. We need a photo\, description and
  website for each submission - We do not accept submissions that are withi
 n the next 3 days. submissions at findingconnecticut.com  \n\n[caption i
 d="attachment_16083" align="alignnone" width="300"] shop.findingconnecticu
 t.com[/caption]
ATTACH;FMTTYPE=image/jpeg:https://findingconnecticut.com/wp-content/upload
 s/2023/05/Screenshot-2023-05-17-at-10.49.32-PM.png
CATEGORIES:East Hartford
LOCATION:Pratt & Whitney Stadium at Rentschler Field\, 615 Silver Lane \, E
 ast Hartford\, Connecticut\, 06118\, New England\, United States
X-APPLE-STRUCTURED-LOCATION;VALUE=URI;X-ADDRESS=615 Silver Lane \, East Har
 tford\, Connecticut\, 06118\, New England\, United States;X-APPLE-RADIUS=1
 00;X-TITLE=Pratt & Whitney Stadium at Rentschler Field:geo:0,0
END:VEVENT
BEGIN:VTIMEZONE
TZID:America/New_York
X-LIC-LOCATION:America/New_York
BEGIN:DAYLIGHT
DTSTART:20230312T030000
TZOFFSETFROM:-0500
TZOFFSETTO:-0400
TZNAME:EDT
END:DAYLIGHT
END:VTIMEZONE
END:VCALENDAR