BEGIN:VCALENDAR
VERSION:2.0
PRODID:-//wp-events-plugin.com//7.2.3.1//EN
TZID:America/New_York
X-WR-TIMEZONE:America/New_York
BEGIN:VEVENT
UID:881@findingconnecticut.com
DTSTART;TZID=America/New_York:20231118T093000
DTEND;TZID=America/New_York:20231118T130000
DTSTAMP:20230327T150210Z
URL:https://findingconnecticut.com/events/greenwich-farmers-market-27/
SUMMARY:Greenwich Farmers' Market
DESCRIPTION:Greenwich Farmers' Market\nNovember 18\,  2023  •  9:30 am
  - 1 pm\n•\nCommuter lot\nArch Street &amp\; Horseneck Lane\nGreenwich\,
  Connecticut 06830\n9:30 am - 1 pm - free parking\n•\nTo add an event pl
 ease email us\, we monitor for spam. We need a photo\, description and web
 site for each submission - We do not accept submissions that are within th
 e next 3 days. submissions@findingconnecticut.com\n\n[caption id="attachme
 nt_16083" align="alignnone" width="300"] shop.findingconnecticut.com[/capt
 ion]
ATTACH;FMTTYPE=image/jpeg:https://findingconnecticut.com/wp-content/upload
 s/2023/03/image0-1-scaled.jpeg
CATEGORIES:Greenwich
LOCATION:Greenwich Farmers' Market\, Commuter Lot • Arch Street &amp\; Ho
 rseneck Lane \, Greenwich\, Connecticut \, 06830\, New England\, United St
 ates
X-APPLE-STRUCTURED-LOCATION;VALUE=URI;X-ADDRESS=Commuter Lot • Arch Stree
 t & Horseneck Lane \, Greenwich\, Connecticut \, 06830\, New England\, Uni
 ted States;X-APPLE-RADIUS=100;X-TITLE=Greenwich Farmers' Market:geo:0,0
END:VEVENT
BEGIN:VTIMEZONE
TZID:America/New_York
X-LIC-LOCATION:America/New_York
BEGIN:STANDARD
DTSTART:20231105T010000
TZOFFSETFROM:-0400
TZOFFSETTO:-0500
TZNAME:EST
END:STANDARD
END:VTIMEZONE
END:VCALENDAR