BEGIN:VCALENDAR
VERSION:2.0
PRODID:-//wp-events-plugin.com//7.2.3.1//EN
TZID:America/New_York
X-WR-TIMEZONE:America/New_York
BEGIN:VEVENT
UID:179@findingconnecticut.com
DTSTART;TZID=America/New_York:20230325T200000
DTEND;TZID=America/New_York:20230325T230000
DTSTAMP:20230206T193854Z
URL:https://findingconnecticut.com/events/great-white-stryper-and-steven-a
 dler-of-guns-n-roses/
SUMMARY:Great White\, Stryper and Steven Adler of Guns ‘N Roses
DESCRIPTION:Great White\, Stryper\, and Steven Adler\nMarch 25\, 2023  
 • 8 PM\n\nFor more information click here \nMohegan Sun \n1 Mohegan Su
 n Blvd.\nUncasville\, CT 06382\n\n\n[caption id="attachment_16083" align="
 alignnone" width="300"] shop.findingconnecticut.com[/caption]
ATTACH;FMTTYPE=image/jpeg:https://findingconnecticut.com/wp-content/upload
 s/2023/02/unnamed-241.jpg
CATEGORIES:Uncasville
LOCATION:Mohegan Sun\, 1 Mohegan Sun Blvd\, \, Uncasville\, \, Connecticut\
 , \, 06382\, New England \, United States
X-APPLE-STRUCTURED-LOCATION;VALUE=URI;X-ADDRESS=1 Mohegan Sun Blvd\, \, Unc
 asville\, \, Connecticut\, \, 06382\, New England \, United States;X-APPLE
 -RADIUS=100;X-TITLE=Mohegan Sun:geo:0,0
END:VEVENT
BEGIN:VTIMEZONE
TZID:America/New_York
X-LIC-LOCATION:America/New_York
BEGIN:DAYLIGHT
DTSTART:20230312T030000
TZOFFSETFROM:-0500
TZOFFSETTO:-0400
TZNAME:EDT
END:DAYLIGHT
END:VTIMEZONE
END:VCALENDAR