BEGIN:VCALENDAR
VERSION:2.0
PRODID:-//wp-events-plugin.com//7.2.3.1//EN
TZID:America/New_York
X-WR-TIMEZONE:America/New_York
BEGIN:VEVENT
UID:5185@findingconnecticut.com
DTSTART;TZID=America/New_York:20240302T103000
DTEND;TZID=America/New_York:20240302T180000
DTSTAMP:20240125T150952Z
URL:https://findingconnecticut.com/events/good-day-2024-03-02/
SUMMARY:Good Day
DESCRIPTION:Good Day\n Click here for more information \n\nSorelle Galler
 y\n19 Church Ln\nWestport\, CT 06880\n\nShare your Sorelle Gallery experie
 nce with us by using #findingconnecticut on Instagram\n\nClick here to l
 earn more about Sorelle Gallery\nClick here for the latest news at Sorelle
  Gallery\nClick here for the upcoming events at Sorelle Gallery\nClick her
 e for the latest news in Westport \nClick here for the upcoming  events 
 in Westport\nClick here for the latest news in Fairfield County\nClick her
 e for the upcoming events in Fairfield County\n\nTo add an event please em
 ail us\, we monitor for spam. We need a photo\, description and website fo
 r each submission - We do not accept submissions that are within the next 
 3 days. submissions at findingconnecticut.com
ATTACH;FMTTYPE=image/jpeg:https://findingconnecticut.com/wp-content/upload
 s/2024/01/Untitled_1200_x_900_px_1024x1024.jpg
CATEGORIES:Westport
LOCATION:Sorelle Gallery Fine Art\, 19 Church Lane\, Westport\, Connecticut
 \, 06880\, New England\, United States
X-APPLE-STRUCTURED-LOCATION;VALUE=URI;X-ADDRESS=19 Church Lane\, Westport\,
  Connecticut\, 06880\, New England\, United States;X-APPLE-RADIUS=100;X-TI
 TLE=Sorelle Gallery Fine Art:geo:0,0
END:VEVENT
BEGIN:VTIMEZONE
TZID:America/New_York
X-LIC-LOCATION:America/New_York
BEGIN:STANDARD
DTSTART:20231105T010000
TZOFFSETFROM:-0400
TZOFFSETTO:-0500
TZNAME:EST
END:STANDARD
END:VTIMEZONE
END:VCALENDAR