BEGIN:VCALENDAR
VERSION:2.0
PRODID:-//wp-events-plugin.com//7.2.3.1//EN
TZID:America/New_York
X-WR-TIMEZONE:America/New_York
BEGIN:VEVENT
UID:5824@findingconnecticut.com
DTSTART;TZID=America/New_York:20241005T153000
DTEND;TZID=America/New_York:20241005T180000
DTSTAMP:20240503T184440Z
URL:https://findingconnecticut.com/events/goat-brew-fest-2024/
SUMMARY:Goat Brew Fest 2024
DESCRIPTION:Goat Brew Fest 2024\nOctober 5\, 2024 • 3:00 PM-6:00 PM\n\nCl
 ick here for more information \n\n Dunkin Park \n1214 Main Street\nHart
 ford\, CT 06103\n\nTo add an event please email us\, we monitor for spam. 
 We need a photo\, description and website for each submission - We do not 
 accept submissions that are within the next 3 days. submissions at finding
 connecticut.com  \n\n[caption id="attachment_16083" align="alignnone" wi
 dth="300"] shop.findingconnecticut.com[/caption]
ATTACH;FMTTYPE=image/jpeg:https://findingconnecticut.com/wp-content/upload
 s/2023/05/cut-1904740101.jpeg
CATEGORIES:Hartford
LOCATION:Dunkin'  Park\, 1214 Main St\, Hartford \, Connecticut \, 06103\, 
 New England\, United States
X-APPLE-STRUCTURED-LOCATION;VALUE=URI;X-ADDRESS=1214 Main St\, Hartford \, 
 Connecticut \, 06103\, New England\, United States;X-APPLE-RADIUS=100;X-TI
 TLE=Dunkin'  Park:geo:0,0
END:VEVENT
BEGIN:VTIMEZONE
TZID:America/New_York
X-LIC-LOCATION:America/New_York
BEGIN:DAYLIGHT
DTSTART:20240310T030000
TZOFFSETFROM:-0500
TZOFFSETTO:-0400
TZNAME:EDT
END:DAYLIGHT
END:VTIMEZONE
END:VCALENDAR