BEGIN:VCALENDAR
VERSION:2.0
PRODID:-//wp-events-plugin.com//7.2.3.1//EN
TZID:America/New_York
X-WR-TIMEZONE:America/New_York
BEGIN:VEVENT
UID:240@findingconnecticut.com
DTSTART;TZID=America/New_York:20230820T193000
DTEND;TZID=America/New_York:20230820T223000
DTSTAMP:20230213T191234Z
URL:https://findingconnecticut.com/events/ghost-with-amon-amarth/
SUMMARY:Ghost with Amon Amarth
DESCRIPTION:Ghost with Amon Amarth\nAugust 20\, 2023  •  7:30 PM\n\nFor
  more information click here \nHartford Healthcare Amphitheater\n500 Broa
 d Street\nBridgeport\, CT 06604\n\n\n[caption id="attachment_16083" align=
 "alignnone" width="300"] shop.findingconnecticut.com[/caption]
ATTACH;FMTTYPE=image/jpeg:https://findingconnecticut.com/wp-content/upload
 s/2023/02/Ghost2021_Photo1-1.jpg
CATEGORIES:Bridgeport
LOCATION:Hartford HealthCare Amphitheater\, 500 Broad St\, \, Bridgeport\, 
 \, Connecticut\, \, 06604\,\, New England\, \, United States
X-APPLE-STRUCTURED-LOCATION;VALUE=URI;X-ADDRESS=500 Broad St\, \, Bridgepor
 t\, \, Connecticut\, \, 06604\,\, New England\, \, United States;X-APPLE-R
 ADIUS=100;X-TITLE=Hartford HealthCare Amphitheater:geo:0,0
END:VEVENT
BEGIN:VTIMEZONE
TZID:America/New_York
X-LIC-LOCATION:America/New_York
BEGIN:DAYLIGHT
DTSTART:20230312T030000
TZOFFSETFROM:-0500
TZOFFSETTO:-0400
TZNAME:EDT
END:DAYLIGHT
END:VTIMEZONE
END:VCALENDAR